BEGIN:VCALENDAR
VERSION:2.0
PRODID:-//ChamberMaster//Event Calendar 2.0//EN
METHOD:PUBLISH
X-PUBLISHED-TTL:P3D
REFRESH-INTERVAL:P3D
CALSCALE:GREGORIAN
BEGIN:VEVENT
DTSTART:20110208T180000Z
DTEND:20110208T190000Z
X-MICROSOFT-CDO-ALLDAYEVENT:FALSE
SUMMARY:Creat the Business YOU Want!
DESCRIPTION:Road Map to Success!\n\n\n\nA Combination of Group & Individual Coaching\n\nProviding Clarity\, Direction & Profit!\n\n\n\nWant Time to Work ON Your Business\n\nInstead of Just IN Your Business?\n\n\n\nDo you?\n\n?Know you need to do something differently to get different results?\n\n?Need the structure\, process and time to work on your business?\n\n?Enjoy the scheduling convenience of a lunch time meeting by phone or webinar?\n\n?Get inspired & energized through working with a great group of intelligent people?\n\n?Know you need the support\, but are unsure about making an\n\ninvestment in private coaching?\n\n\n\nWant to?\n\n?Learn how to answer the question ?Why should I work with YOU???\n\n?Figure out who are your ideal clients and where to find them?\n\n?Add more focus & get better results from your networking\, sales and marketing efforts?\n\n?Have the best of both worlds: The best practices & key learnings from a small group AND the individual focus of a 1X1 coaching relationship?\n\n?Be empowered to create the business you REALLY want?the way you REALLY want it?!?\n\n\n\nThen This Program Is for YOU!\n\n\n\nElene Cafasso\, an Executive Coach & MBA with 24 years of marketing & sales experience will walk you step-by-step through our unique process which has a proven record of success with our individual coaching clients!\n\n\n\nWe?ll cover:\n\n?Creating a fulfilling business vision\n\n?Professional branding to communicate your unique value to your ideal clients\n\n?Developing a tactical marketing plan for 2011\n\n?Identifying & communicating with your target market/ideal clients\n\n?Utilizing social media and strategic referral sources to drive leads \n\n\n\nFor more information: \n\nhttp://enerpace.com/pdf/Biz%20Group%20Coaching%20Flyer%201Q11.pdf
X-ALT-DESC;FMTTYPE=text/html:Road Map to Success!\n<br>\n<br>A Combination of Group &amp\; Individual Coaching\n<br>Providing Clarity\, Direction &amp\; Profit!\n<br>\n<br>Want Time to Work ON Your Business\n<br>Instead of Just IN Your Business?\n<br>\n<br>Do you?\n<br>?Know you need to do something differently to get different results?\n<br>?Need the structure\, process and time to work on your business?\n<br>?Enjoy the scheduling convenience of a lunch time meeting by phone or webinar?\n<br>?Get inspired &amp\; energized through working with a great group of intelligent people?\n<br>?Know you need the support\, but are unsure about making an\n<br>investment in private coaching?\n<br>\n<br>Want to?\n<br>?Learn how to answer the question ?Why should I work with YOU???\n<br>?Figure out who are your ideal clients and where to find them?\n<br>?Add more focus &amp\; get better results from your networking\, sales and marketing efforts?\n<br>?Have the best of both worlds: The best practices &amp\; key learnings from a small group AND the individual focus of a 1X1 coaching relationship?\n<br>?Be empowered to create the business you REALLY want?the way you REALLY want it?!?\n<br>\n<br>Then This Program Is for YOU!\n<br>\n<br>Elene Cafasso\, an Executive Coach &amp\; MBA with 24 years of marketing &amp\; sales experience will walk you step-by-step through our unique process which has a proven record of success with our individual coaching clients!\n<br>\n<br>We?ll cover:\n<br>?Creating a fulfilling business vision\n<br>?Professional branding to communicate your unique value to your ideal clients\n<br>?Developing a tactical marketing plan for 2011\n<br>?Identifying &amp\; communicating with your target market/ideal clients\n<br>?Utilizing social media and strategic referral sources to drive leads \n<br>\n<br>For more information: \n<br>http://enerpace.com/pdf/Biz%20Group%20Coaching%20Flyer%201Q11.pdf
LOCATION:Group Webinar/Teleclass 2x a month and Individual Phone Call 1x a month
UID:e.333.3719
SEQUENCE:3
DTSTAMP:20260426T011104Z
URL:https://chambermaster.elmhurstchamber.org/events/details/creat-the-business-you-want-02-08-2011-3719
END:VEVENT

END:VCALENDAR
