BEGIN:VCALENDAR
VERSION:2.0
PRODID:-//ChamberMaster//Event Calendar 2.0//EN
METHOD:PUBLISH
X-PUBLISHED-TTL:P3D
REFRESH-INTERVAL:P3D
CALSCALE:GREGORIAN
BEGIN:VEVENT
DTSTART:20110813T200000Z
DTEND:20110813T220000Z
X-MICROSOFT-CDO-ALLDAYEVENT:FALSE
SUMMARY:Creature Quest Fundraiser with the Kratt Brothers
DESCRIPTION:Meet the Kratt Brothers from the hit shows Zoboomafoo and Wild Kratts\, and learn how you can help save endangered species.\n\n\n\nWildlife encounters~Activity stations~Refreshments~Small group interactions~Autographs~Photo opportunities
X-ALT-DESC;FMTTYPE=text/html:Meet the Kratt Brothers from the hit shows Zoboomafoo and Wild Kratts\, and learn how you can help save endangered species.<br />\n<br />\nWildlife encounters~Activity stations~Refreshments~Small group interactions~Autographs~Photo opportunities<br />\n<br />\n
LOCATION:Mayslake Peabody Estate Oak Brook\, IL
UID:e.333.4266
SEQUENCE:3
DTSTAMP:20260425T145133Z
URL:https://chambermaster.elmhurstchamber.org/events/details/creature-quest-fundraiser-with-the-kratt-brothers-08-13-2011-4266
END:VEVENT

END:VCALENDAR
