BEGIN:VCALENDAR
VERSION:2.0
PRODID:-//ChamberMaster//Event Calendar 2.0//EN
METHOD:PUBLISH
X-PUBLISHED-TTL:P3D
REFRESH-INTERVAL:P3D
CALSCALE:GREGORIAN
BEGIN:VEVENT
DTSTART:20110407T230000Z
DTEND:20110408T030000Z
X-MICROSOFT-CDO-ALLDAYEVENT:FALSE
SUMMARY:CSLD Annual Spring Dinner
DESCRIPTION:The Board of Directors and Staff of the Center for Speech and Language Disorders invite you to attend the Annual Spring Dinner and Presentation of the 2011 "You Make A Difference" Award to Rich Rosenberg of Phototek Corporation.
X-ALT-DESC;FMTTYPE=text/html:<br />\nThe Board of Directors and Staff of the Center for Speech and Language Disorders invite you to attend the Annual Spring Dinner and Presentation of the 2011 &quot\;You Make A Difference&quot\; Award to Rich Rosenberg of <a href="http://chambermaster.elmhurstchamber.org/list/Member/phototek-corporation-elmhurst.htm">Phototek Corporation</a>.
LOCATION:Angelo's Ristorante 247 N. York St. Elmhurst\, IL 60126
UID:e.333.4147
SEQUENCE:3
DTSTAMP:20260425T204500Z
URL:https://chambermaster.elmhurstchamber.org/events/details/csld-annual-spring-dinner-04-07-2011-4147
END:VEVENT

END:VCALENDAR
