BEGIN:VCALENDAR
VERSION:2.0
PRODID:-//ChamberMaster//Event Calendar 2.0//EN
METHOD:PUBLISH
X-PUBLISHED-TTL:P3D
REFRESH-INTERVAL:P3D
CALSCALE:GREGORIAN
BEGIN:VEVENT
DTSTART;VALUE=DATE:20130709
DTEND;VALUE=DATE:20130721
TRANSP:TRANSPARENT
X-MICROSOFT-CDO-ALLDAYEVENT:TRUE
SUMMARY:CVG Associates~ Beijo Bags Trunk Show
DESCRIPTION:Beijo Bags Trunk Show running until July 20.  A small selection of the over 100 Beijo Styles available on our website   http://vogoldman.beijobags.com    \n\nE-mail all special orders to vmog@comcast.net  \n\n\n\nSpecial Order delivery to the Dailey Method will be made on July 17 at 10 a.m.\n\nVisit the Dailey Method today to view the current Beijo Collection\n\n155 N York St\, Elmhurst IL 60126\n\n630.832.3245
X-ALT-DESC;FMTTYPE=text/html:Beijo Bags Trunk Show running until July 20.&nbsp\; A small selection of the over 100 Beijo Styles available on our website&nbsp\;&nbsp\; <a href="http://vogoldman.beijobags.com">http://vogoldman.beijobags.com</a>&nbsp\;&nbsp\;&nbsp\;&nbsp\;<br />\nE-mail all special orders to <a href="mailto:vmog@comcast.net">vmog@comcast.net</a>&nbsp\;&nbsp\;<br />\n<br />\nSpecial Order delivery to the Dailey Method will be made on July 17 at 10 a.m.<br />\nVisit the Dailey Method today&nbsp\;to view the current Beijo Collection<br />\n155 N York St\, Elmhurst IL 60126<br />\n630.832.3245
LOCATION:The Dailey Method
UID:e.333.5561
SEQUENCE:3
DTSTAMP:20260422T152004Z
URL:https://chambermaster.elmhurstchamber.org/events/details/cvg-associates-beijo-bags-trunk-show-07-09-2013-5561
END:VEVENT

END:VCALENDAR
