BEGIN:VCALENDAR
VERSION:2.0
PRODID:-//ChamberMaster//Event Calendar 2.0//EN
METHOD:PUBLISH
X-PUBLISHED-TTL:P3D
REFRESH-INTERVAL:P3D
CALSCALE:GREGORIAN
BEGIN:VEVENT
DTSTART:20130223T010000Z
DTEND:20130223T030000Z
X-MICROSOFT-CDO-ALLDAYEVENT:FALSE
SUMMARY:Daddy/Daughter Ball Under the Sea
DESCRIPTION:Ages 3-13\n\n	All daddies and their daughters are invited to attend our Ball Under the Sea\, featuring dancing\, refreshments\, and appetizers.  Register both child and parent.  Registration deadline is February 15.  Registration is not taken at the door so be sure to register early.
X-ALT-DESC;FMTTYPE=text/html:<p>\n	Ages 3-13<br />\n	All daddies and their daughters are invited to attend our Ball Under the Sea\, featuring dancing\, refreshments\, and appetizers.&nbsp\; Register both child and parent.&nbsp\; Registration deadline is February 15.&nbsp\; Registration is not taken at the door so be sure to register early.&nbsp\;</p>\n
LOCATION:Jefferson School Gymnasium
UID:e.333.5105
SEQUENCE:3
DTSTAMP:20260424T114429Z
URL:https://chambermaster.elmhurstchamber.org/events/details/daddy-daughter-ball-under-the-sea-02-22-2013-5105
END:VEVENT

END:VCALENDAR
