BEGIN:VCALENDAR
VERSION:2.0
PRODID:-//ChamberMaster//Event Calendar 2.0//EN
METHOD:PUBLISH
X-PUBLISHED-TTL:P3D
REFRESH-INTERVAL:P3D
CALSCALE:GREGORIAN
BEGIN:VEVENT
DTSTART:20120913T200000Z
DTEND:20120913T230000Z
X-MICROSOFT-CDO-ALLDAYEVENT:FALSE
SUMMARY:Dash 'N Dine
DESCRIPTION:Midwest Conference Center and Concord Place Invite you to Dash 'N Dine.....\n\n\n\nJoin us for a evening of networking with area professionals and let us introduce you to new possibilities! Cocktails and Hors d'oeuvres will be served. As our guest you will also receive dinner for two\, to take and enjoy at home. This event will give you the chance to sample a small portion of what we can do to make your next event fabulous! Below you will find the dinner options we are offering at the Dash 'N Dine. \n\n\n\nPlease RSVP with your choice of two entrees to: mcondon@midwestconf.com \n\n\n\nChoices of Entree's:\n\n\n\nAlmond Crusted Sole\n\n    Risotto with Mushroon and Peas\n\n    Sauteed Garden Vegatables\n\n\n\nFlank Steak\n\n    Mushroom Caps in a Red Wine Sauce\n\n    Horseradish Whipped Potatoes\n\n    Sauteed Garden Vegetables\n\n\n\nRoasted Vegetable Ravioli\n\n    With Vodka Cream Sauce\n\n\n\nRed velvet Cheesecake & Key Lime Cheesecake\n\n\n\n\n\n\n\nThank you!\n\n\n\nMegan Condon\n\nCorporate Sales Manager\n\n708-409-2827\n\nmcondon@midwestconf.com
X-ALT-DESC;FMTTYPE=text/html:<span style="font-size: 14px"><strong>Midwest Conference Center and Concord Place Invite you to Dash &#39\;N Dine.....<br />\n<br />\nJoin us for a evening of networking with area professionals and let us introduce you to new possibilities! Cocktails and Hors d&#39\;oeuvres will be served. As our guest you will also receive dinner for two\, to take and enjoy at home. This event will give you the chance to sample a small portion of what we can do to make your next event fabulous! Below you will find the dinner options we are offering at the Dash &#39\;N Dine.&nbsp\;<br />\n<br />\nPlease RSVP with your choice of two entrees to: mcondon@midwestconf.com&nbsp\;<br />\n<br />\nChoices of Entree&#39\;s:</strong><br />\n<br />\n<em>Almond Crusted Sole<br />\n&nbsp\; &nbsp\; Risotto with Mushroon and Peas<br />\n&nbsp\;&nbsp\;&nbsp\; Sauteed Garden Vegatables<br />\n<br />\nFlank Steak<br />\n&nbsp\; &nbsp\; Mushroom Caps in a Red Wine Sauce<br />\n&nbsp\; &nbsp\; Horseradish Whipped Potatoes<br />\n&nbsp\;&nbsp\;&nbsp\; Sauteed Garden Vegetables<br />\n<br />\nRoasted Vegetable Ravioli<br />\n&nbsp\; &nbsp\; With Vodka Cream Sauce<br />\n<br />\nRed velvet Cheesecake &amp\; Key Lime Cheesecake</em><br />\n<br />\n<br />\n<br />\n<strong>Thank you!<br />\n<br />\nMegan Condon<br />\nCorporate Sales Manager<br />\n708-409-2827<br />\nmcondon@midwestconf.com&nbsp\;</strong></span>
LOCATION:Midwest Conference Center\, Skyline Ballroom 401 West Lake St Northlake \, IL 60164
UID:e.333.4933
SEQUENCE:3
DTSTAMP:20260424T175622Z
URL:https://chambermaster.elmhurstchamber.org/events/details/dash-n-dine-09-13-2012-4933
END:VEVENT

END:VCALENDAR
