BEGIN:VCALENDAR
VERSION:2.0
PRODID:-//ChamberMaster//Event Calendar 2.0//EN
METHOD:PUBLISH
X-PUBLISHED-TTL:P3D
REFRESH-INTERVAL:P3D
CALSCALE:GREGORIAN
BEGIN:VEVENT
DTSTART:20121017T130000Z
DTEND:20121017T140000Z
X-MICROSOFT-CDO-ALLDAYEVENT:FALSE
SUMMARY:DemographicsNOW: Business & People
DESCRIPTION:As part of our Professional Speaker Seminar Series\, Assistant Head of Adult Services Bryan Blank of the Elmhurst Public Library and Dinah Ramirez of Cengage Learning will present a one-hour seminar on the use DemographicsNOW for online searches of business and people demographics.\n\n\n\nAttendance will be free to Chamber members and special guests\, with food and beverages provided. \n\n\n	\n		Elmhurst Public Library offers a slew of business and investing resources that are available 24/7 from their website with an Elmhurst Library car.  For this session\, we will focus on DemographicsNOW:  Business & People.  This demographics tool leverages multiple data sources to help users assess business viability\, create sales leaders and/or marketing mailing list\, analyze trends in a given population\, and find potential sponsors and donors to grow a nonprofit.  The data sources include consumer expenditures\, retail spending\, census date and MOSAIC lifestyle market segmentation classifications.  With DemographicsNOW\,users can create detailed reports and maps to help them access the knowledge they need to make informed business decisions.
X-ALT-DESC;FMTTYPE=text/html:As part of our Professional Speaker Seminar Series\, Assistant Head of Adult Services Bryan Blank of the Elmhurst Public Library and Dinah Ramirez of Cengage Learning will&nbsp\;present a one-hour seminar on the use DemographicsNOW&nbsp\;for online searches&nbsp\;of business and people demographics.<br />\n<br />\nAttendance will be free to Chamber members and special guests\, with food and beverages provided.&nbsp\;<br />\n<div>\n	<div>\n		Elmhurst Public Library offers a slew of business and investing resources that are available 24/7 from their website with an Elmhurst Library car. &nbsp\;For this session\, we will focus on DemographicsNOW:&nbsp\; Business &amp\; People.&nbsp\; This demographics tool leverages multiple data sources to help users assess business viability\, create sales leaders and/or marketing mailing list\, analyze trends in a given population\, and find potential sponsors and donors to grow a nonprofit.&nbsp\; The data sources include consumer expenditures\, retail spending\, census date and MOSAIC lifestyle market segmentation classifications.&nbsp\; With DemographicsNOW\,users can create detailed reports and maps to help them access the knowledge they need to make informed business decisions.<br />\n		&nbsp\;</div>\n</div>\n
LOCATION:Elmhurst Public Library 125 S. Prospect Elmhurst\, IL 60126
UID:e.333.4549
SEQUENCE:3
DTSTAMP:20260424T162713Z
URL:https://chambermaster.elmhurstchamber.org/events/details/demographicsnow-business-people-10-17-2012-4549
END:VEVENT

END:VCALENDAR
