BEGIN:VCALENDAR
VERSION:2.0
PRODID:-//ChamberMaster//Event Calendar 2.0//EN
METHOD:PUBLISH
X-PUBLISHED-TTL:P3D
REFRESH-INTERVAL:P3D
CALSCALE:GREGORIAN
BEGIN:VEVENT
DTSTART:20110428T000000Z
DTEND:20110428T020000Z
X-MICROSOFT-CDO-ALLDAYEVENT:FALSE
SUMMARY:Demystifying Local Taxes
DESCRIPTION:Demystifying Local Taxes\n\n\n\nHosted by Elmhurst League of Women Voters.\n\n\n\nChristopher Kain\, Assessor for Addison Township and Deanna Wilkins\, Assessor for York Township will to help us understand our local taxes and guide us through the process of disputing them.  Sponsored by the League of Women Voters on Wednesday\, April 27\, 7:00 pm at the Elmhurst Public Library\, 125 S. Prospect\, Elmhurst.\n\n\n\nAddison and York Townships include Addison\, Bensenville\, Elmhurst\, Itasca\, Lombard\, Oakbrook Terrace\, Oak Brook\, Villa Park\, and Wood Dale. Portions of Elk Grove Village\, Glen Ellyn\, Hinsdale and Westmont are also included.\n\n\n\nPlease join us for the presentation followed by a question and answer session. Everyone is welcome! Go to www.lwvelmhurst.org for more information.
X-ALT-DESC;FMTTYPE=text/html:Demystifying Local Taxes<br />\n<br />\nHosted by Elmhurst League of Women Voters.<br />\n<br />\nChristopher Kain\, Assessor for Addison Township and Deanna Wilkins\, Assessor for York Township will to help us understand our local taxes and guide us through the process of disputing them.&nbsp\; Sponsored by the League of Women Voters on Wednesday\, April 27\, 7:00 pm at the Elmhurst Public Library\, 125 S. Prospect\, Elmhurst.<br />\n<br />\nAddison and York Townships include Addison\, Bensenville\, Elmhurst\, Itasca\, Lombard\, Oakbrook Terrace\, Oak Brook\, Villa Park\, and Wood Dale. Portions of Elk Grove Village\, Glen Ellyn\, Hinsdale and Westmont are also included.<br />\n<br />\nPlease join us for the presentation followed by a question and answer session. Everyone is welcome! Go to www.lwvelmhurst.org for more information.<br />\n<br />\n
LOCATION:Elmhurst Public Library\, 125 S. Prospect\, Elmhurst
UID:e.333.4160
SEQUENCE:3
DTSTAMP:20260425T204739Z
URL:https://chambermaster.elmhurstchamber.org/events/details/demystifying-local-taxes-04-27-2011-4160
END:VEVENT

END:VCALENDAR
