BEGIN:VCALENDAR
VERSION:2.0
PRODID:-//ChamberMaster//Event Calendar 2.0//EN
METHOD:PUBLISH
X-PUBLISHED-TTL:P3D
REFRESH-INTERVAL:P3D
CALSCALE:GREGORIAN
BEGIN:VEVENT
DTSTART:20130418T200000Z
DTEND:20130419T010000Z
X-MICROSOFT-CDO-ALLDAYEVENT:FALSE
SUMMARY:Dine and Dash
DESCRIPTION:Join Concord Place and Midwest Conference Center for a night of networking. Enjoy cocktails and appetizers and a take home dinner for two. A great opportunity to meet with professionals and sample portions you may want to enjoy at your next event!
X-ALT-DESC;FMTTYPE=text/html:Join Concord Place and Midwest Conference Center for a night of networking. Enjoy cocktails and appetizers and a take home dinner for two. A great opportunity to meet with professionals and sample portions you may want to enjoy at your next event!&nbsp\;
LOCATION:Midwest Conference Center 401 West Lake Street Northlake\, Illinois 60146
UID:e.333.5156
SEQUENCE:3
DTSTAMP:20260422T194001Z
URL:https://chambermaster.elmhurstchamber.org/events/details/dine-and-dash-04-18-2013-5156
END:VEVENT

END:VCALENDAR
