BEGIN:VCALENDAR
VERSION:2.0
PRODID:-//ChamberMaster//Event Calendar 2.0//EN
METHOD:PUBLISH
X-PUBLISHED-TTL:P3D
REFRESH-INTERVAL:P3D
CALSCALE:GREGORIAN
BEGIN:VEVENT
DTSTART:20130515T164500Z
DTEND:20130515T180000Z
X-MICROSOFT-CDO-ALLDAYEVENT:FALSE
SUMMARY:Discover Cuba
DESCRIPTION:Americans just can't book a trip to the historic island of Cuba unless traveling with a group like ours that is sanctioned by the governments of both countries.\n\n\n\nAs part of the Chamber's Professional Speakers Series\, Betsy D'Onofrio of Premier World Discovery/Chamber Explorations will do a presentation on the Chamber's October 18 Discover Cuba trip in the Chamber office from 11:45 a.m. to 1 p.m. Complementary food and beverages will be provided.
X-ALT-DESC;FMTTYPE=text/html:<strong>Americans just can&#39\;t book a trip to the historic island of Cuba unless traveling with a group like ours that is sanctioned by the governments of both countries.</strong><br />\n<br />\n<span style="font-size: 14px\;">As part of the Chamber&#39\;s Professional Speakers Series\, Betsy D&#39\;Onofrio of Premier World Discovery/Chamber Explorations will do a presentation on the Chamber&#39\;s October 18 Discover Cuba trip&nbsp\;in the Chamber office from 11:45 a.m. to 1 p.m. Complementary food and beverages will be provided.</span>
LOCATION:Elmhurst Chamber of Commerce & Industry 242 N. York St.\, Ste. 102 Elmhurst\, IL 60126
UID:e.333.5270
SEQUENCE:3
DTSTAMP:20260422T180419Z
URL:https://chambermaster.elmhurstchamber.org/events/details/discover-cuba-05-15-2013-5270
END:VEVENT

END:VCALENDAR
