BEGIN:VCALENDAR
VERSION:2.0
PRODID:-//ChamberMaster//Event Calendar 2.0//EN
METHOD:PUBLISH
X-PUBLISHED-TTL:P3D
REFRESH-INTERVAL:P3D
CALSCALE:GREGORIAN
BEGIN:VEVENT
DTSTART:20130320T164500Z
DTEND:20130320T180000Z
X-MICROSOFT-CDO-ALLDAYEVENT:FALSE
SUMMARY:"Discover Cuba Chamber Trip" Professional Speakers Series
DESCRIPTION:Americans just can't book a trip to the historic island of Cuba unless traveling with a group like ours that is sanctioned by the governments of both countries.\n\n\n\nAs part of the Chamber's Professional Speakers Series\, Betsy D'Onofrio of Premier World Discovery/Chamber Explorations will do a presentation on the Chamber's October 18 Discover Cuba in the Chamber office from 11:45 a.m. to 1 p.m.  Complementary food and beverages will be provided.
X-ALT-DESC;FMTTYPE=text/html:<br />\n<strong>Americans just can&#39\;t book a trip to the historic&nbsp\;island of Cuba unless traveling with a group like ours that is&nbsp\;sanctioned by the governments of both countries.</strong><br />\n<br />\n<span style="font-size: 14px\;">As part of the Chamber&#39\;s Professional Speakers Series\, Betsy D&#39\;Onofrio of Premier World Discovery/Chamber Explorations will do a presentation on the Chamber&#39\;s October 18&nbsp\;Discover&nbsp\;Cuba in the Chamber office from 11:45 a.m. to 1 p.m.&nbsp\; Complementary food and beverages will be provided.</span>
LOCATION:Elmhurst Chamber of Commerce & Industry 242 N. York St.\, Ste. 102
UID:e.333.5239
SEQUENCE:3
DTSTAMP:20260424T085210Z
URL:https://chambermaster.elmhurstchamber.org/events/details/discover-cuba-chamber-trip-professional-speakers-series-03-20-2013-5239
END:VEVENT

END:VCALENDAR
