BEGIN:VCALENDAR
VERSION:2.0
PRODID:-//ChamberMaster//Event Calendar 2.0//EN
METHOD:PUBLISH
X-PUBLISHED-TTL:P3D
REFRESH-INTERVAL:P3D
CALSCALE:GREGORIAN
BEGIN:VEVENT
DTSTART:20110910T003000Z
DTEND:20110910T020000Z
X-MICROSOFT-CDO-ALLDAYEVENT:FALSE
SUMMARY:District 205 Foundation Circus
DESCRIPTION:Family fun under the big top with a performance by the Kelly Miller Circus
X-ALT-DESC;FMTTYPE=text/html:<p>\n	Family fun under the big top with&nbsp\;a performance by the Kelly Miller Circus</p>\n
LOCATION:Sandburg Middle School Grounds 345 E. St. Charles Rd. Elmhurst\, IL 60126
UID:e.333.4198
SEQUENCE:3
DTSTAMP:20260425T132407Z
URL:https://chambermaster.elmhurstchamber.org/events/details/district-205-foundation-circus-09-09-2011-4198
END:VEVENT

END:VCALENDAR
