BEGIN:VCALENDAR
VERSION:2.0
PRODID:-//ChamberMaster//Event Calendar 2.0//EN
METHOD:PUBLISH
X-PUBLISHED-TTL:P3D
REFRESH-INTERVAL:P3D
CALSCALE:GREGORIAN
BEGIN:VEVENT
DTSTART:20111022T230000Z
DTEND:20111023T040000Z
X-MICROSOFT-CDO-ALLDAYEVENT:FALSE
SUMMARY:District 205 Foundation Midnight Masquerade
DESCRIPTION:Have a Ball at the 7th Annual Midnight Masquerade-A Black & Orange Ball.  Enjoy food\, cash bar\, live music\, dancing\, raffles\, and silent and live auctions\, with proceeds going to support public education in Elmhurst.
X-ALT-DESC;FMTTYPE=text/html:Have a Ball at the 7th Annual Midnight Masquerade-A Black &amp\; Orange Ball.&nbsp\; Enjoy food\, cash bar\, live music\, dancing\, raffles\, and silent and live auctions\, with proceeds going to support public education in Elmhurst.
LOCATION:River Forest Country Club 15W468 Grand Ave. Elmhurst\, IL 60126
UID:e.333.4196
SEQUENCE:3
DTSTAMP:20260425T114907Z
URL:https://chambermaster.elmhurstchamber.org/events/details/district-205-foundation-midnight-masquerade-10-22-2011-4196
END:VEVENT

END:VCALENDAR
