BEGIN:VCALENDAR
VERSION:2.0
PRODID:-//ChamberMaster//Event Calendar 2.0//EN
METHOD:PUBLISH
X-PUBLISHED-TTL:P3D
REFRESH-INTERVAL:P3D
CALSCALE:GREGORIAN
BEGIN:VEVENT
DTSTART:20110605T010000Z
DTEND:20110605T030000Z
X-MICROSOFT-CDO-ALLDAYEVENT:FALSE
SUMMARY:District 205 Foundation Wine Tasting
DESCRIPTION:Educate Your Palate with a wine tasting event that helps support public education in Elmhurst.
X-ALT-DESC;FMTTYPE=text/html:Educate Your Palate with a wine tasting event&nbsp\;that helps support public education in Elmhurst.
LOCATION:Flight 112 Wine House 112 W. Park Ave. Elmhurst\, IL 60126
UID:e.333.4194
SEQUENCE:3
DTSTAMP:20260425T190744Z
URL:https://chambermaster.elmhurstchamber.org/events/details/district-205-foundation-wine-tasting-06-04-2011-4194
END:VEVENT

END:VCALENDAR
