BEGIN:VCALENDAR
VERSION:2.0
PRODID:-//ChamberMaster//Event Calendar 2.0//EN
METHOD:PUBLISH
X-PUBLISHED-TTL:P3D
REFRESH-INTERVAL:P3D
CALSCALE:GREGORIAN
BEGIN:VEVENT
DTSTART:20111209T010000Z
DTEND:20111209T030000Z
X-MICROSOFT-CDO-ALLDAYEVENT:FALSE
SUMMARY:Diva Night at Fleet Feet
DESCRIPTION:We believe in women. We believe in active women. We believe in active women who challenge themselves every day to be fit and achieve new goals. We believe in all women who run their own lives. Most importantly\, we believe in celebrating these women\, and the lives they live.\n\n\n\nSo bring your mother\, grandmother\, sister\, daughter and best friend\, and join us on Thursday\, December 8\, from 7 to 9 pm for a night that's all about you!\n\n\n\n FREE Chair Massages from Pure Harmony Massage\n\n Wine provided by Tannins Wine Bar & Boutique\n\n Samplings from the Elmhurst Olive Oil Company\n\n Get your nails painted by Nail Bar\n\n 20% OFF all Bras\n\n 10% of all sales will go to a local charity\n\n Awesome prizes will be raffled off every 20 minutes
X-ALT-DESC;FMTTYPE=text/html:We believe in women. We believe in active women. We believe in active women who challenge themselves every day to be fit and achieve new goals. We believe in all women who run their own lives. Most importantly\, we believe in celebrating these women\, and the lives they live.<br />\n<br />\nSo bring your mother\, grandmother\, sister\, daughter and best friend\, and join us on Thursday\, December 8\, from 7 to 9 pm for a night that&#39\;s all about you!<br />\n<br />\n&bull\;FREE Chair Massages from Pure Harmony Massage<br />\n&bull\;Wine provided by Tannins Wine Bar &amp\; Boutique<br />\n&bull\;Samplings from the Elmhurst Olive Oil Company<br />\n&bull\;Get your nails painted by Nail Bar<br />\n&bull\;20% OFF all Bras<br />\n&bull\;10% of all sales will go to a local charity<br />\n&bull\;Awesome prizes will be raffled off every 20 minutes<br />\n
LOCATION:Fleet Feet Sports Elmhurst 124 East Schiller Street\, Elmhurst
UID:e.333.4732
SEQUENCE:3
DTSTAMP:20260425T101958Z
URL:https://chambermaster.elmhurstchamber.org/events/details/diva-night-at-fleet-feet-12-08-2011-4732
END:VEVENT

END:VCALENDAR
