BEGIN:VCALENDAR
VERSION:2.0
PRODID:-//ChamberMaster//Event Calendar 2.0//EN
METHOD:PUBLISH
X-PUBLISHED-TTL:P3D
REFRESH-INTERVAL:P3D
CALSCALE:GREGORIAN
BEGIN:VEVENT
DTSTART:20130330T153000Z
DTEND:20130330T163000Z
X-MICROSOFT-CDO-ALLDAYEVENT:FALSE
SUMMARY:Doggie Eggstravaganza
DESCRIPTION:Dogs that enjoy the thrill of the hunt\, or just like to romp can join us at our Egg Hunt for Dogs.  Prizes and treats will be hidden in colorful holiday eggs throughout Wilder Park.  Dogs must be leashed\, wearing current rabies tags and accompanied by a responsible adult\, 16 years or older.  Don't forget a basket to collect your goodies and a camera for pictures with the Easter Bunny.  Prizes will be awarded for best costume.
X-ALT-DESC;FMTTYPE=text/html:<p class="MsoNormal" style="margin: 0in 0in 0pt 0.1in\;">\n	<span style="font-size: 10pt\;"><font color="#000000"><font face="Calibri">Dogs that enjoy the thrill of the hunt\, or just like to romp can join us at our Egg Hunt for Dogs.<span style="mso-spacerun: yes\;">&nbsp\; </span>Prizes and treats will be hidden in colorful holiday eggs throughout Wilder Park.<span style="mso-spacerun: yes\;">&nbsp\; </span>Dogs must be leashed\, wearing current rabies tags and accompanied by a responsible adult\, 16 years or older.<span style="mso-spacerun: yes\;">&nbsp\; </span>Don&rsquo\;t forget a basket to collect your goodies and a camera for pictures with the Easter Bunny.<span style="mso-spacerun: yes\;">&nbsp\; </span>Prizes will be awarded for best costume.<o:p></o:p></font></font></span></p>\n
LOCATION:Wilder Park
UID:e.333.5192
SEQUENCE:3
DTSTAMP:20260424T084611Z
URL:https://chambermaster.elmhurstchamber.org/events/details/doggie-eggstravaganza-03-30-2013-5192
END:VEVENT

END:VCALENDAR
