BEGIN:VCALENDAR
VERSION:2.0
PRODID:-//ChamberMaster//Event Calendar 2.0//EN
METHOD:PUBLISH
X-PUBLISHED-TTL:P3D
REFRESH-INTERVAL:P3D
CALSCALE:GREGORIAN
BEGIN:VEVENT
DTSTART;VALUE=DATE:20110222
DTEND;VALUE=DATE:20110223
TRANSP:TRANSPARENT
X-MICROSOFT-CDO-ALLDAYEVENT:TRUE
SUMMARY:Dordt College Concert Band and Orchestra to Perform at Faith CRC
DESCRIPTION:The Dordt College Concert Band and Orchestra from Sioux Center\, Iowa\, will present a concert at 6 p.m. worship service Sunday\, March 20\, at Faith Christian Reformed Church in Elmhurst.\n\nThis free concert is part of a music tour to seven states and one Canadian province.  Along with Illiois\, performances are scheduled in Iowa\, Indiana\, New York\, Massachusetts\, New Jersey\, Michigan and Ontario\, Canada.\n\n\n\nThe 48-person band and 21-person orchestra will perform a variety of pieces under the direction of Bradley Miedema.
X-ALT-DESC;FMTTYPE=text/html:The Dordt College Concert Band and Orchestra from Sioux Center\, Iowa\, will present a concert at 6 p.m. worship service Sunday\, March 20\, at Faith Christian Reformed Church in Elmhurst.<br />\nThis free concert is part of a music tour to seven states and one Canadian province.&nbsp\; Along with Illiois\, performances are scheduled in Iowa\, Indiana\, New York\, Massachusetts\, New Jersey\, Michigan and Ontario\, Canada.<br />\n<br />\nThe 48-person band and 21-person orchestra will perform a variety of pieces under the direction of Bradley Miedema. 
LOCATION:Faith Christian Reformed Church 1070 S. Prospect Ave. Elmhurst\, IL 60126
UID:e.333.3870
SEQUENCE:3
DTSTAMP:20260425T234201Z
URL:https://chambermaster.elmhurstchamber.org/events/details/dordt-college-concert-band-and-orchestra-to-perform-at-faith-crc-02-22-2011-3870
END:VEVENT

END:VCALENDAR
