BEGIN:VCALENDAR
VERSION:2.0
PRODID:-//ChamberMaster//Event Calendar 2.0//EN
METHOD:PUBLISH
X-PUBLISHED-TTL:P3D
REFRESH-INTERVAL:P3D
CALSCALE:GREGORIAN
BEGIN:VEVENT
DTSTART:20130508T140000Z
DTEND:20130509T180000Z
X-MICROSOFT-CDO-ALLDAYEVENT:FALSE
SUMMARY:Driver Safety Program
DESCRIPTION:FREE! Driver Safety Program\n\n	Ages 55 and older.\n\n	Tune up your driving skills and drive more safely.  Seniors 55+ with clean driving records may be able to get an insurance discount upon course completion.  This is an eight-hour course and those registered are required to attend both days.  Pre-registration is required.  A $12 fee AARP member/$14 fee non-AARP member needs to be paid by check payable to AARP and brought to the first day of class.
X-ALT-DESC;FMTTYPE=text/html:<p class="MsoNormal" style="margin: 0in 0in 0pt 0.1in\;">\n	<span style="font-size: 10pt\;"><font color="#000000"><font face="Calibri">FREE! Driver Safety Program<o:p></o:p></font></font></span></p>\n<p class="MsoNormal" style="margin: 0in 0in 0pt 0.1in\;">\n	<span style="font-size: 10pt\;"><font color="#000000"><font face="Calibri">Ages 55 and older.<o:p></o:p></font></font></span></p>\n<p class="MsoNormal" style="margin: 0in 0in 0pt 0.1in\;">\n	<span style="font-size: 10pt\;"><font color="#000000"><font face="Calibri">Tune up your driving skills and drive more safely.<span style="mso-spacerun: yes\;">&nbsp\; </span>Seniors 55+ with clean driving records may be able to get an insurance discount upon course completion.<span style="mso-spacerun: yes\;">&nbsp\; </span>This is an eight-hour course and those registered are required to attend both days.<span style="mso-spacerun: yes\;">&nbsp\; </span>Pre-registration is required.<span style="mso-spacerun: yes\;">&nbsp\; </span>A $12 fee AARP member/$14 fee non-AARP member needs to be paid by check payable to AARP and brought to the first day of class.<o:p></o:p></font></font></span></p>\n
LOCATION:The Abbey
UID:e.333.5216
SEQUENCE:3
DTSTAMP:20260422T180247Z
URL:https://chambermaster.elmhurstchamber.org/events/details/driver-safety-program-05-08-2013-5216
END:VEVENT

END:VCALENDAR
