BEGIN:VCALENDAR
VERSION:2.0
PRODID:-//ChamberMaster//Event Calendar 2.0//EN
METHOD:PUBLISH
X-PUBLISHED-TTL:P3D
REFRESH-INTERVAL:P3D
CALSCALE:GREGORIAN
BEGIN:VEVENT
DTSTART:20120914T000000Z
DTEND:20120914T020000Z
X-MICROSOFT-CDO-ALLDAYEVENT:FALSE
SUMMARY:Dual Duty: Serving Concurrently in Two Elected Offices
DESCRIPTION:The Elmhurst League of Women Voters presents an informational panel discussion on the rationale for the two dual duty referenda that will be on the November 6 ballot.\n\n\n\nPanelists:\n\nPaul Fichtner\, DuPage County Board Member\n\nKevin York (invited)\, Elmhurst Alderman\n\nBarbara Sturges\, Mike Brown\, and Heidi Keenan\, participants in a recent LWV Park Forest study on holding dual elected offices.\n\n\n\nThe program will be moderated by the Elmhurst LWV.
X-ALT-DESC;FMTTYPE=text/html:The Elmhurst League of Women Voters presents an informational panel discussion on the rationale for the two dual duty referenda that will be on the November 6 ballot.<br />\n<br />\nPanelists:<br />\nPaul Fichtner\, DuPage County Board Member<br />\nKevin York (invited)\, Elmhurst Alderman<br />\nBarbara Sturges\, Mike Brown\, and Heidi Keenan\, participants in a recent LWV Park Forest study on holding dual elected offices.<br />\n<br />\nThe program will be moderated by the Elmhurst LWV. &nbsp\;
LOCATION:Elmhurst Public Library\, 125 S Prospect
UID:e.333.4932
SEQUENCE:3
DTSTAMP:20260424T175704Z
URL:https://chambermaster.elmhurstchamber.org/events/details/dual-duty-serving-concurrently-in-two-elected-offices-09-13-2012-4932
END:VEVENT

END:VCALENDAR
