BEGIN:VCALENDAR
VERSION:2.0
PRODID:-//ChamberMaster//Event Calendar 2.0//EN
METHOD:PUBLISH
X-PUBLISHED-TTL:P3D
REFRESH-INTERVAL:P3D
CALSCALE:GREGORIAN
BEGIN:VEVENT
DTSTART:20111023T200000Z
DTEND:20111023T213000Z
X-MICROSOFT-CDO-ALLDAYEVENT:FALSE
SUMMARY:Dueling Pianos
DESCRIPTION:Two grand pianos and two internationally acclaimed pianists\, Dana Brown and Jeffrey Panko\, will "face off" to showcase a potpourri of music from Mozart and Rachmaninoff to a grand tango of Piazzolia.
X-ALT-DESC;FMTTYPE=text/html:Two grand pianos and two internationally acclaimed pianists\, Dana Brown and Jeffrey Panko\, will &quot\;face off&quot\; to showcase a potpourri of music from Mozart and Rachmaninoff to a grand tango of Piazzolia.
LOCATION:Bethel United Church of Christ 315 E St. Charles Road Elmhurst\, IL 60126
UID:e.333.4524
SEQUENCE:3
DTSTAMP:20260425T132051Z
URL:https://chambermaster.elmhurstchamber.org/events/details/dueling-pianos-10-23-2011-4524
END:VEVENT

END:VCALENDAR
