BEGIN:VCALENDAR
VERSION:2.0
PRODID:-//ChamberMaster//Event Calendar 2.0//EN
METHOD:PUBLISH
X-PUBLISHED-TTL:P3D
REFRESH-INTERVAL:P3D
CALSCALE:GREGORIAN
BEGIN:VEVENT
DTSTART:20110911T160000Z
DTEND:20110911T170000Z
X-MICROSOFT-CDO-ALLDAYEVENT:FALSE
SUMMARY:DuPage Day of Service
DESCRIPTION:Join us for the tenth annual DuPage Day of Service and Rememberance to be held at the Thornhill Educatiopn Center at the Morton Arboretum in Lisle\, IL beginning at 11 a.m. on September 11. Our theme is honoring everyday heroes and will include speakers\, music\, and video celebrating the spirit of volunteerism that is alive and well in DuPage County.\n\n\n\nReservations are required. RSVP by visiting: http://dupagedayofremembrance.com Space is limited. Please bring a copy of this confirmation for entrance at the gatehouse. Suggested donation of non-perishable food for the Northern Illinois Food Bank will be collected at the Thornhill Education Center.
X-ALT-DESC;FMTTYPE=text/html:Join us for the tenth annual DuPage Day of Service and Rememberance to be held at the Thornhill Educatiopn Center at the Morton Arboretum in Lisle\, IL beginning at 11 a.m. on September 11. Our theme is honoring everyday heroes and will include speakers\, music\, and video celebrating the spirit of volunteerism that is alive and well in DuPage County.<br />\n<br />\nReservations are required. RSVP by visiting: <a href="http://dupagedayofremembrance.com">http://dupagedayofremembrance.com</a> Space is limited. Please bring a copy of this confirmation for entrance at the gatehouse. Suggested donation of non-perishable food for the Northern Illinois Food Bank will be collected at the Thornhill Education Center.<br />\n
LOCATION:Morton Arboretum Thornhill Education Center 4100 Route 53 Lisle\, Illinois
UID:e.333.4401
SEQUENCE:3
DTSTAMP:20260425T132354Z
URL:https://chambermaster.elmhurstchamber.org/events/details/dupage-day-of-service-09-11-2011-4401
END:VEVENT

END:VCALENDAR
