BEGIN:VCALENDAR
VERSION:2.0
PRODID:-//ChamberMaster//Event Calendar 2.0//EN
METHOD:PUBLISH
X-PUBLISHED-TTL:P3D
REFRESH-INTERVAL:P3D
CALSCALE:GREGORIAN
BEGIN:VEVENT
DTSTART;VALUE=DATE:20120421
DTEND;VALUE=DATE:20120422
TRANSP:TRANSPARENT
X-MICROSOFT-CDO-ALLDAYEVENT:TRUE
SUMMARY:DuPage Human Race supported by Elmhurst Symphony Orchestra
DESCRIPTION:To celebrate National Volunteer Week\, friends and supporters of the Elmhurst Symphony Orchestra are invited to participate in the DuPage Human Race\, a 5k run/2 mile fitness walk organized by Giving DuPage\, on Saturday\, April 21\, 2012\, at Danada Forest Preserve near the Forest Preserve District of DuPage County Headquarters\, on Naperville Rd. between Butterfield Rd. and Warrenville Rd. in Wheaton\, IL.  The race starts at 9:00 am.  All ages can participate\; pets are welcome on the walk.  Sixty percent of registration fees and 75% of dollars raised by ESO runners/walkers go the Symphony.  Advanced registration ends April 15\; go to www.dupagehumanrace.org to sign up.  Participants can also register at 7:30 am on race day\, but at an increased fee.Funds raised for the ESO through the Human Race will help support the Summer String Orchestra\, a joint venture of the Elmhurst Symphony and the Elmhurst Park District.  The program\, which will take place in June and July\, provides an opportunity for string players age 12 and above\, of all levels\, who are or have been part of an orchestra\, to receive instruction from members of the Elmhurst Symphony.  The goal of the program is for each student to grow musically and personally while experiencing a variety of music.  Participants will perform at a concert for family and friends upon completion of the program.  For more information please visit www.epd.org.\n\n \n\nIf you are unable to participate in the race\, you can support the Summer String Orchestra by donating at http://www.active.com/donate/dupagehumanrace/elmhurstsymphony.  All contributions are gratefully accepted.  For more information please call the Symphony at 630-941-0202.
X-ALT-DESC;FMTTYPE=text/html:<font face="Times New Roman" size="3">To celebrate National Volunteer Week\, friends and supporters of the Elmhurst Symphony Orchestra are invited to participate in the DuPage Human Race\, a&nbsp\;5k run/2 mile fitness walk organized by Giving DuPage\, on <st1:date day="21" month="4" year="2012">Saturday\, <st1:date day="21" ls="trans" month="4" year="2012">April 21\, 2012</st1:date></st1:date>\, at Danada Forest Preserve near the Forest Preserve District of DuPage County Headquarters\, on <st1:street><st1:address>Naperville Rd.</st1:address></st1:street>&nbsp\;between <st1:street><st1:address>Butterfield Rd. and&nbsp\;Warrenville Rd.</st1:address></st1:street>&nbsp\;in <st1:place><st1:city>Wheaton</st1:city>\, <st1:state>IL</st1:state></st1:place>.&nbsp\; The race starts at <st1:time hour="9" minute="0">9:00 am</st1:time>.&nbsp\; All ages can participate\; pets are welcome on the walk.&nbsp\; Sixty percent of registration fees and 75% of&nbsp\;dollars raised by ESO runners/walkers go the Symphony.&nbsp\; Advanced registration ends April 15\; go&nbsp\;to&nbsp\;</font><a href="http://www.dupagehumanrace.org/"><font face="Times New Roman" size="3">www.dupagehumanrace.org</font></a><font face="Times New Roman" size="3">&nbsp\;to sign up.&nbsp\; Participants can also register at 7:30 am on race day\, but at an increased </font><font face="Times New Roman" size="3">fee.</font><span style="font-size:medium\;"><span style="font-family:times new roman\;">Funds</span></span><span style="font-size:medium\;"><span style="font-family:times new roman\;"> raised for the ESO through the Human Race will help support the Summer String Orchestra\, a joint venture of the Elmhurst Symphony and the Elmhurst Park District.&nbsp\; The program\, which will take place in June and July\, provides an opportunity for string players age 12 and above\, of all levels\,&nbsp\;who are or have been part of an orchestra\, to receive instruction from members of the Elmhurst Symphony.&nbsp\; The goal of the program is for each student to grow musically and personally while experiencing a variety of music.&nbsp\; Participants will perform at a concert for family and friends upon completion of the program.&nbsp\; For more information please visit </span></span><a href="http://www.epd.org/"><span style="font-size:medium\;"><span style="font-family:times new roman\;"><span style="color:#800080\;">www.epd.org</span></span></span></a><span style="font-size:medium\;"><span style="font-family:times new roman\;">.</span></span><br />\n&nbsp\;<br />\n<span style="font-size:medium\;"><span style="font-family:times new roman\;">If you are unable to participate in the race\, you can support the Summer String Orchestra by donating </span></span><span style="font-size:medium\;"><span style="font-family:times new roman\;">at <span style="color:black\;"><a href="http://www.active.com/donate/dupagehumanrace/elmhurstsymphony" target="_blank" title="http://www.active.com/donate/dupagehumanrace/elmhurstsymphony">http://www.active.com/donate/dupagehumanrace/elmhurstsymphony</a>.&nbsp\; All contributions are gratefully accepted.&nbsp\; For more information please call the Symphony at </span></span><span style="color:black\;">630-941-0202</span></span><span style="color:black\;">.</span><br />\n<br />\n
LOCATION:Danada Forest Preserve near the Forest Preserve District of DuPage County Headquarters\, on Naperville Rd. between Butterfield Rd. and Warrenville Rd. in Wheaton\, IL.
UID:e.333.4820
SEQUENCE:3
DTSTAMP:20260425T022549Z
URL:https://chambermaster.elmhurstchamber.org/events/details/dupage-human-race-supported-by-elmhurst-symphony-orchestra-04-21-2012-4820
END:VEVENT

END:VCALENDAR
