BEGIN:VCALENDAR
VERSION:2.0
PRODID:-//ChamberMaster//Event Calendar 2.0//EN
METHOD:PUBLISH
X-PUBLISHED-TTL:P3D
REFRESH-INTERVAL:P3D
CALSCALE:GREGORIAN
BEGIN:VEVENT
DTSTART:20130921T130000Z
DTEND:20130921T170000Z
X-MICROSOFT-CDO-ALLDAYEVENT:FALSE
SUMMARY:DuPage Medical Group Hosts "herDMG" Event
DESCRIPTION:DuPage Medical Group\, the largest independent\, multi-specialty physician group in the Chicago area\, invites women from across the western suburbs to take part in "herDMG\," a day dedicated to women's health. The event takes place from 8 a.m. - noon on Saturday\, September 21\, at its Naperville medical office building located at 2940 RollingRidge Road.\n\n	herDMG offers participants comprehensive care in one convenient location. Participants can schedule and receive comprehensive herDMG exams\, which include yearly physicals\, lab testing\, mammograms and other services. In addition\, the event includes:\n\n	\n		Physician presentations on a variety of women's health issues\n	\n		A health fair \n	\n		A flu clinic \n	\n		Varicose vein screenings \n\n\n	Payment is required for exams and testing\, though the health presentations and health fair portion of the event are complimentary.\n\n	To schedule a herDMG exam\, call (888) 693-6437. Staff members will help explain payment and insurance coverage options. \n\n	About DuPage Medical Group\n\n	With nearly 400 physicians and 50 locations\, DuPage Medical Group provides physician-directed health care focused on quality\, efficiency and access. For more information\, visit www.dupagemedicalgroup.com.
X-ALT-DESC;FMTTYPE=text/html:<p class="MsoNormal">\n	<span style="font-family: Arial\;">DuPage Medical Group\, the largest independent\, multi-specialty physician group in the Chicago area\, invites women from across the western suburbs to take part in &ldquo\;herDMG\,&rdquo\; a day dedicated to women&rsquo\;s health. The event takes place from 8 a.m. - noon on Saturday\, September 21\, at its Naperville medical office building located at 2940 RollingRidge Road.</span></p>\n<p class="MsoNormal">\n	<span style="font-family: Arial\;">herDMG offers participants comprehensive care in one convenient location. Participants can schedule and receive comprehensive herDMG exams\, which include yearly physicals\, lab testing\, mammograms and other services. In addition\, the event includes:</span></p>\n<ul style="margin-top: 0in\;" type="disc">\n	<li class="MsoNormal">\n		<span style="font-family: Arial\;">Physician presentations on a variety of women&rsquo\;s health issues</span></li>\n	<li class="MsoNormal">\n		<span style="font-family: Arial\;">A health fair </span></li>\n	<li class="MsoNormal">\n		<span style="font-family: Arial\;">A flu clinic </span></li>\n	<li class="MsoNormal">\n		<span style="font-family: Arial\;">Varicose vein screenings</span><span style="font-family: Arial\;">&nbsp\;</span></li>\n</ul>\n<p class="MsoNormal">\n	<span new="" style="font-family: Arial\;" times="">Payment is required for exams and testing\, though the health presentations and health fair portion of the event are complimentary.</span></p>\n<p class="MsoNormal">\n	<span new="" style="font-family: Arial\;" times="">To schedule a herDMG exam\, call </span><span style="font-family: Arial\;">(888) 693-6437. </span><span new="" style="font-family: Arial\;" times="">Staff members will help explain payment and insurance coverage options.</span><span style="font-family: Arial\;">&nbsp\;</span></p>\n<p class="MsoNormal">\n	<b><span new="" style="font-family: Arial\;" times="">About DuPage Medical Group</span></b></p>\n<p class="MsoNormal">\n	<span style="font-family: Arial\;">With nearly 400 physicians and 50 locations\, DuPage Medical Group provides physician-directed health care focused on quality\, efficiency and access. For more information\, visit <a href="http://www.dupagemedicalgroup.com">www.dupagemedicalgroup.com</a>.&nbsp\;</span></p>\n
LOCATION:2940 RollingRidge Road Naperville\, Ill. 60564
UID:e.333.5585
SEQUENCE:3
DTSTAMP:20260422T112338Z
URL:https://chambermaster.elmhurstchamber.org/events/details/dupage-medical-group-hosts-herdmg-event-09-21-2013-5585
END:VEVENT

END:VCALENDAR
