BEGIN:VCALENDAR
VERSION:2.0
PRODID:-//ChamberMaster//Event Calendar 2.0//EN
METHOD:PUBLISH
X-PUBLISHED-TTL:P3D
REFRESH-INTERVAL:P3D
CALSCALE:GREGORIAN
BEGIN:VEVENT
DTSTART;VALUE=DATE:20121203
DTEND;VALUE=DATE:20121204
TRANSP:TRANSPARENT
X-MICROSOFT-CDO-ALLDAYEVENT:TRUE
SUMMARY:DuPage Medical Group Lisle Medical Office Building Opening
DESCRIPTION:DuPage Medical Group will open a new medical office building in Lisle\, Ill.\, on Dec. 3. The facility combines an accessible location with comprehensive care\, all designed to meet patients' diverse health care needs. The DuPage Medical Group Lisle Medical Office Building is located at 430 Warrenville Road\, southeast of Interstate 88 and Route 53. \n\n	 \n\n	The nearly 100\,000 square-foot building will house 50 physicians and 310 staff\, providing primary and immediate care\, along with many specialty and advanced diagnostic services\, internal medicine\, pain management\, surgery and oncology\, among numerous other services. \n\n	 \n\n	The cancer wing of the building offers full-service care using new technology and specialty treatments including:\n\n	 \n\n	A Nurse Navigator to guide patients through their personalized treatment plans.\n\n	\n\n	Radiation for eligible patients using the TrueBeam  system\, an advanced technology where precisely aimed radiation beams destroy tumors without the need for surgery.\n\n	\n\n	Chemotherapy infusion and some subspecialty care provided through a clinical collaboration with Rush University Medical Center.\n\n	 \n\n	About DuPage Medical Group\n\n	With more than 370 physicians and 50 locations\, DuPage Medical Group provides physician-directed health care focused on quality\, efficiency and access. For more information\, visit www.dupagemedicalgroup.com\, or call 630-545-7880.
X-ALT-DESC;FMTTYPE=text/html:<div style="word-wrap: break-word">\n	<span class="Apple-style-span" style="border-spacing: 0px\; border-collapse: separate\; font-family: helvetica\; color: rgb(0\,0\,0)\; font-size: medium"><font class="x_x_Apple-style-span" face="Arial">DuPage Medical Group will open a new medical office building in Lisle\, Ill.\, on Dec. 3. The facility combines an accessible location with comprehensive care\, all designed to meet patients&#39\; diverse health care needs. The DuPage Medical Group Lisle Medical Office Building is located at 430 Warrenville Road\, southeast of Interstate 88 and Route 53.&nbsp\;</font></span></div>\n<div style="word-wrap: break-word">\n	&nbsp\;</div>\n<div style="word-wrap: break-word">\n	<span class="Apple-style-span" style="border-spacing: 0px\; border-collapse: separate\; font-family: helvetica\; color: rgb(0\,0\,0)\; font-size: medium"><font class="x_x_Apple-style-span" face="Arial">The nearly 100\,000 square-foot building will house 50 physicians and 310 staff\, providing primary and immediate care\, along with many specialty and advanced diagnostic services\, internal medicine\, pain management\, surgery and oncology\, among numerous other services.&nbsp\;</font></span></div>\n<div style="word-wrap: break-word">\n	&nbsp\;</div>\n<div style="word-wrap: break-word">\n	<span class="Apple-style-span" style="border-spacing: 0px\; border-collapse: separate\; font-family: helvetica\; color: rgb(0\,0\,0)\; font-size: medium"><font class="x_x_Apple-style-span" face="Arial">The cancer wing of the building offers full-service care using new technology and specialty treatments including:</font></span></div>\n<div style="word-wrap: break-word">\n	&nbsp\;</div>\n<div style="word-wrap: break-word">\n	<span class="Apple-style-span" style="border-spacing: 0px\; border-collapse: separate\; font-family: helvetica\; color: rgb(0\,0\,0)\; font-size: medium"><font class="x_x_Apple-style-span" face="Arial">A Nurse Navigator to guide patients through their personalized treatment plans.</font></span></div>\n<div style="word-wrap: break-word">\n	<br />\n	<span class="Apple-style-span" style="border-spacing: 0px\; border-collapse: separate\; font-family: helvetica\; color: rgb(0\,0\,0)\; font-size: medium"><font class="x_x_Apple-style-span" face="Arial">Radiation for eligible patients using the TrueBeam&#65533\; system\, an advanced technology where precisely aimed radiation beams destroy tumors without the need for surgery.</font></span></div>\n<div style="word-wrap: break-word">\n	<br />\n	<span class="Apple-style-span" style="border-spacing: 0px\; border-collapse: separate\; font-family: helvetica\; color: rgb(0\,0\,0)\; font-size: medium"><font class="x_x_Apple-style-span" face="Arial">Chemotherapy infusion and some subspecialty care provided through a clinical collaboration with Rush University Medical Center.</font></span></div>\n<div style="word-wrap: break-word">\n	&nbsp\;</div>\n<div style="word-wrap: break-word">\n	<span class="Apple-style-span" style="border-spacing: 0px\; border-collapse: separate\; font-family: helvetica\; color: rgb(0\,0\,0)\; font-size: medium"><font class="x_x_Apple-style-span" face="Arial"><b>About DuPage Medical Group</b></font></span></div>\n<div style="word-wrap: break-word">\n	<span class="Apple-style-span" style="border-spacing: 0px\; border-collapse: separate\; font-family: helvetica\; color: rgb(0\,0\,0)\; font-size: medium"><font class="x_x_Apple-style-span" face="Arial">With more than 370 physicians and 50 locations\, DuPage Medical Group provides physician-directed health care focused on quality\, efficiency and access. For more information\, visit&nbsp\;<a href="http://www.dupagemedicalgroup.com/">www.dupagemedicalgroup.com</a>\, or call 630-545-7880.</font></span></div>\n
LOCATION:430 Warrenville Road\, Lisle\, IL
UID:e.333.5135
SEQUENCE:3
DTSTAMP:20260424T132746Z
URL:https://chambermaster.elmhurstchamber.org/events/details/dupage-medical-group-lisle-medical-office-building-opening-12-03-2012-5135
END:VEVENT

END:VCALENDAR
