BEGIN:VCALENDAR
VERSION:2.0
PRODID:-//ChamberMaster//Event Calendar 2.0//EN
METHOD:PUBLISH
X-PUBLISHED-TTL:P3D
REFRESH-INTERVAL:P3D
CALSCALE:GREGORIAN
BEGIN:VEVENT
DTSTART:20130803T140000Z
DTEND:20130803T200000Z
X-MICROSOFT-CDO-ALLDAYEVENT:FALSE
SUMMARY:Dynamic Earth Activities at Green Fest
DESCRIPTION:Museum Geologist Sara Johnson offers activities for children K through 4th grade. Designed to demonstrate earth's unique treasures\, experience sifting for fossils and minerals\, creating fossil and crystal imprints and putting together a Pangaea puzzle. Held in Wilder Park and hosted by the Elmhurst Park district\, Green Fest promotes environmentally safe practices\, green companies and organizations with resources for the environmentally conscious. For more information see www.elmhurstgreenfest.org.\n\nBooth in Wilder Park- Free 10 am to 3 pm
X-ALT-DESC;FMTTYPE=text/html:Museum Geologist Sara Johnson offers activities for children K through 4th grade. Designed to demonstrate earth&#39\;s unique treasures\, experience sifting for fossils and minerals\, creating fossil and crystal imprints and putting together a Pangaea puzzle. Held in Wilder Park and hosted by the Elmhurst Park district\, Green Fest promotes environmentally safe practices\, green companies and organizations with resources for the environmentally conscious. For more information see www.elmhurstgreenfest.org.<br />\nBooth in Wilder Park- Free 10 am to 3 pm&nbsp\; 
LOCATION:Lizzadro Museum of Lapidary Art 220 Cottage Hill Elmhurst\, IL 60126
UID:e.333.5319
SEQUENCE:3
DTSTAMP:20260422T133456Z
URL:https://chambermaster.elmhurstchamber.org/events/details/dynamic-earth-activities-at-green-fest-08-03-2013-5319
END:VEVENT

END:VCALENDAR
