BEGIN:VCALENDAR
VERSION:2.0
PRODID:-//ChamberMaster//Event Calendar 2.0//EN
METHOD:PUBLISH
X-PUBLISHED-TTL:P3D
REFRESH-INTERVAL:P3D
CALSCALE:GREGORIAN
BEGIN:VEVENT
DTSTART;VALUE=DATE:20130415
DTEND;VALUE=DATE:20130524
TRANSP:TRANSPARENT
X-MICROSOFT-CDO-ALLDAYEVENT:TRUE
SUMMARY:Early Childhood and Youth Spring Sports
DESCRIPTION:Spring sports start April 15.  Consists of baseball\, basketball\, soccer and multi sports.  Please visit our website for dates\, times\, ages for the different classes.
X-ALT-DESC;FMTTYPE=text/html:Spring sports start April 15.&nbsp\; Consists of baseball\, basketball\, soccer and multi sports.&nbsp\; Please visit our website for dates\, times\, ages for the different classes.&nbsp\; 
LOCATION:Wagner Community Center
UID:e.333.5204
SEQUENCE:3
DTSTAMP:20260422T180908Z
URL:https://chambermaster.elmhurstchamber.org/events/details/early-childhood-and-youth-spring-sports-04-15-2013-5204
END:VEVENT

END:VCALENDAR
