BEGIN:VCALENDAR
VERSION:2.0
PRODID:-//ChamberMaster//Event Calendar 2.0//EN
METHOD:PUBLISH
X-PUBLISHED-TTL:P3D
REFRESH-INTERVAL:P3D
CALSCALE:GREGORIAN
BEGIN:VEVENT
DTSTART:20110605T010000Z
DTEND:20110605T030000Z
X-MICROSOFT-CDO-ALLDAYEVENT:FALSE
SUMMARY:Educate Your Palate - District 205 Foundation
DESCRIPTION:A Wine Tasting Fundraiser for Educational Excellence in the Elmhurst Public Schools.
X-ALT-DESC;FMTTYPE=text/html:<p>\n	A Wine Tasting Fundraiser for Educational Excellence in the Elmhurst Public Schools.</p>\n
LOCATION:Flight 112 112 W. Park Ave. Elmhurst IL 60126-3301
UID:e.333.4197
SEQUENCE:3
DTSTAMP:20260425T173957Z
URL:https://chambermaster.elmhurstchamber.org/events/details/educate-your-palate-district-205-foundation-06-04-2011-4197
END:VEVENT

END:VCALENDAR
