BEGIN:VCALENDAR
VERSION:2.0
PRODID:-//ChamberMaster//Event Calendar 2.0//EN
METHOD:PUBLISH
X-PUBLISHED-TTL:P3D
REFRESH-INTERVAL:P3D
CALSCALE:GREGORIAN
BEGIN:VEVENT
DTSTART:20121102T210000Z
DTEND:20121103T010000Z
X-MICROSOFT-CDO-ALLDAYEVENT:FALSE
SUMMARY:Edward Jones Thanks Giving Open House
DESCRIPTION:We have a lot to be thankful for during this holiday season because of our friends\, neighbors and clients.  In that spirit\, we invite you to bring your family and friends to our Thanksgiving open house as we say "thank you" to our clients\, friends and community.
X-ALT-DESC;FMTTYPE=text/html:We have a lot to be thankful for during this holiday season because of our friends\, neighbors and clients. &nbsp\;In that spirit\, we invite you to bring your family and friends to our Thanksgiving open house as we say &quot\;thank you&quot\; to our clients\, friends and community.
LOCATION:418C N. York Rd. Elmhurst\, IL 60126
UID:e.333.5101
SEQUENCE:3
DTSTAMP:20260424T145746Z
URL:https://chambermaster.elmhurstchamber.org/events/details/edward-jones-thanks-giving-open-house-11-02-2012-5101
END:VEVENT

END:VCALENDAR
