BEGIN:VCALENDAR
VERSION:2.0
PRODID:-//ChamberMaster//Event Calendar 2.0//EN
METHOD:PUBLISH
X-PUBLISHED-TTL:P3D
REFRESH-INTERVAL:P3D
CALSCALE:GREGORIAN
BEGIN:VEVENT
DTSTART:20111102T210000Z
DTEND:20111103T020000Z
X-MICROSOFT-CDO-ALLDAYEVENT:FALSE
SUMMARY:Effigy Salon?s Breaking Dawn Charity
DESCRIPTION:It's time to start the holiday season early by giving to those in need. Effigy Salon's Breaking Dawn Charity: A Dia de los Muertos Event and inspired by the Twilight Saga is happening just in time before the release of Breaking Dawn Pt. I. Effigy salon will be hosting an annual charity event on every November 2nd Dia De Los Muertos (Day of The Dead) to start the giving season. This year's event will have a blood drive by LifeSource and a goal of $1000 for the Leukemia and Lymphoma Society (LLS).\n\n	\n\n	EFFIGY SALON'S BREAKING DAWN CHARITY: A DIA DE LOS MUERTOS EVENT will be held from Wednesday\, November 2nd\, 2011 from 4pm-9pm.\n\n	\n\n	  Life Source Blood Drive\n\n	  Continuous Loop of the Twilight Saga\n\n	  Dessert Bar\n\n	  Silent Auction\n\n	  Flight 112 Fauxtini\n\n	  Swag Bag including a D a De Los Muertos T-Shirt\n\n	  Salon Specialty Services including Dreamcatcher's Red Extension\n\n	  Raffles and giveaways\n\n	  Twilight Look-a-like contest\n\n	  Extra "Thank You" bag for blood donors\n\n	\n\n	For further information on Effigy Salon's Breaking Dawn Charity: A D a De Los Muertos Event\, please contact Judith.Barrientos@gmail.com visit Effigy Salon 110 W Park Ave Elmhurst\, IL or call 630.758.0101
X-ALT-DESC;FMTTYPE=text/html:<div>\n	It&rsquo\;s time to start the holiday season early by giving to those in need. Effigy Salon&rsquo\;s Breaking Dawn Charity: A Dia de los Muertos Event and inspired by the Twilight Saga is happening just in time before the release of Breaking Dawn Pt. I. Effigy salon will be hosting an annual charity event on every November 2nd Dia De Los Muertos (Day of The Dead) to start the giving season. This year&rsquo\;s event will have a blood drive by LifeSource and a goal of $1000 for the Leukemia and Lymphoma Society (LLS).</div>\n<div>\n	<br />\n	EFFIGY SALON&rsquo\;S BREAKING DAWN CHARITY: A DIA DE LOS MUERTOS EVENT will be held from Wednesday\, November 2nd\, 2011 from 4pm-9pm.</div>\n<div>\n	<br />\n	&#61623\; Life Source Blood Drive</div>\n<div>\n	&#61623\; Continuous Loop of the Twilight Saga</div>\n<div>\n	&#61623\; Dessert Bar</div>\n<div>\n	&#61623\; Silent Auction</div>\n<div>\n	&#61623\; Flight 112 Fauxtini</div>\n<div>\n	&#61623\; Swag Bag including a D&iacute\;a De Los Muertos T-Shirt</div>\n<div>\n	&#61623\; Salon Specialty Services including Dreamcatcher&rsquo\;s Red Extension</div>\n<div>\n	&#61623\; Raffles and giveaways</div>\n<div>\n	&#61623\; Twilight Look-a-like contest</div>\n<div>\n	&#61623\; Extra &ldquo\;Thank You&rdquo\; bag for blood donors</div>\n<div>\n	<br />\n	For further information on Effigy Salon&rsquo\;s Breaking Dawn Charity: A D&iacute\;a De Los Muertos Event\, please contact Judith.Barrientos@gmail.com visit Effigy Salon 110 W Park Ave Elmhurst\, IL or call 630.758.0101</div>\n
LOCATION:Effigy Salon 110 W Park Ave Elmhurst\, IL
UID:e.333.4520
SEQUENCE:3
DTSTAMP:20260425T103405Z
URL:https://chambermaster.elmhurstchamber.org/events/details/effigy-salon-s-breaking-dawn-charity-11-02-2011-4520
END:VEVENT

END:VCALENDAR
