BEGIN:VCALENDAR
VERSION:2.0
PRODID:-//ChamberMaster//Event Calendar 2.0//EN
METHOD:PUBLISH
X-PUBLISHED-TTL:P3D
REFRESH-INTERVAL:P3D
CALSCALE:GREGORIAN
BEGIN:VEVENT
DTSTART:20130330T150000Z
DTEND:20130330T170000Z
X-MICROSOFT-CDO-ALLDAYEVENT:FALSE
SUMMARY:Egg Hunt
DESCRIPTION:Hop on over to Wilder Park for the BIGGEST Easter event Elmhurst has seen yet!  Bring your own basket to collect all your newfound goodies\, and a camera for a picture with the Easter Bunny.  The hunt starts promptly at 10 a.m. and is over within seconds so get there early!  There will be tons of chances to win candy and prizes!
X-ALT-DESC;FMTTYPE=text/html:Hop on over to Wilder Park for the BIGGEST Easter event Elmhurst has seen yet!&nbsp\; Bring your own basket to collect all your newfound goodies\, and a camera for a picture with the Easter Bunny.&nbsp\; The hunt starts promptly at 10 a.m. and is over within seconds so get there early!&nbsp\; There will be tons of chances to win candy and prizes!
LOCATION:Wilder Park
UID:e.333.5191
SEQUENCE:3
DTSTAMP:20260424T084538Z
URL:https://chambermaster.elmhurstchamber.org/events/details/egg-hunt-03-30-2013-5191
END:VEVENT

END:VCALENDAR
