BEGIN:VCALENDAR
VERSION:2.0
PRODID:-//ChamberMaster//Event Calendar 2.0//EN
METHOD:PUBLISH
X-PUBLISHED-TTL:P3D
REFRESH-INTERVAL:P3D
CALSCALE:GREGORIAN
BEGIN:VEVENT
DTSTART:20111001T140000Z
DTEND:20111001T170000Z
X-MICROSOFT-CDO-ALLDAYEVENT:FALSE
SUMMARY:Electronics Recycling Event
DESCRIPTION:Don't trash your old electronic devices and appliances--think green and recycle them!\n\n\n\nYou can drop off old computers and cell phones\, and even appliances like toasters and hair dryers.
X-ALT-DESC;FMTTYPE=text/html:Don&#39\;t trash your old electronic devices and appliances--think green and recycle them!<br />\n<br />\nYou can drop off old computers and cell phones\, and even appliances like toasters and hair dryers.
LOCATION:Elmhurst College Mill Theater Parking Lot (corner of Park & Myrtle)
UID:e.333.4495
SEQUENCE:3
DTSTAMP:20260425T114538Z
URL:https://chambermaster.elmhurstchamber.org/events/details/electronics-recycling-event-10-01-2011-4495
END:VEVENT

END:VCALENDAR
