BEGIN:VCALENDAR
VERSION:2.0
PRODID:-//ChamberMaster//Event Calendar 2.0//EN
METHOD:PUBLISH
X-PUBLISHED-TTL:P3D
REFRESH-INTERVAL:P3D
CALSCALE:GREGORIAN
BEGIN:VEVENT
DTSTART:20110220T010000Z
DTEND:20110220T053000Z
X-MICROSOFT-CDO-ALLDAYEVENT:FALSE
SUMMARY:Elmhurst American Legion Post "COMEDY NIGHT!!"
DESCRIPTION:The Elmhurst American Legion Post #187 hosts award-winning improvisational comedy troupe\, Improv Unlimited\, presenting their hit show "Satire Night Live!" on Saturday\, February 19th at 7:00PM and 10PM\, at the American Legion Post #187\, 310 Butterfield Road\, Elmhurst\, IL 60126. Tickets are $20.00 each and may be purchased by calling the post at 630-833-7800.\n\n\n\nGet ready to laugh your head off! Five of Chicagos best comedic performers take the stage to raise money to help support veteran programs!\n\n\n\n"This is our high-octane\, no holds barred\, pedal to the metal comedy show\," said Chris Bell\, of Improv Unlimited. "The original founders of Improv Unlimited first met at the famed Second City and over the years have developed multiple shows with past and present members of all the famed improv theatres from Chicago\, New York and L.A.. Currently\, improv is concentrated in Chicago and is very inconvenient to residents of Elmhurst. By touring to the Elmhurst\, IL area we make improvisational comedy an economic and geographically viable entertainment option for friends and family."\n\n\n\n"We're very excited to have Improv Unlimited performing in our American Legion Post\," said Dan Bruno\, Commander of the Post #187. "We thought the show provided an excellent form of entertainment and a way for us to raise money needed for to maintain and run essential programs for our veterans.."\n\n\n\nImprov Unlimited's members hail from all the renowned comedy improv theatres in Chicago\, New York\, LA and Boston. The founding members met in the hallways of the famed Second City and created Improv Unlimited to fill the niche market of family entertainment. They will be presenting classic and original comedy improv sketches made famous on stage and television. "Satire Night Live!" is Improv Unlimited's unique mixture of comedy and Improv. You'll see classic sketches from stage and television as well as Improv Unlimiteds unique blend of hysterical family entertainment performed right before your eyes!\n\n\n\nTickets are $20.00 each for the 7PM or 10PM show and are available at the American Legion Post #187 by calling 630-833-7800 or may be ordered online at www.Comedy-Show-Tix.com .\n\n\n\n\n\nPress Photo Attached\n\n\n\nwww.ImprovUnlimited.com
X-ALT-DESC;FMTTYPE=text/html:The Elmhurst American Legion Post #187 hosts award-winning improvisational comedy troupe\, Improv Unlimited\, presenting their hit show &quot\;Satire Night Live!&quot\; on Saturday\, February 19th at 7:00PM and 10PM\, at the American Legion Post #187\, 310 Butterfield Road\, Elmhurst\, IL 60126. Tickets are $20.00 each and may be purchased by calling the post at 630-833-7800.<br />\n<br />\nGet ready to laugh your head off! Five of Chicagos best comedic performers take the stage to raise money to help support veteran programs!<br />\n<br />\n&quot\;This is our high-octane\, no holds barred\, pedal to the metal comedy show\,&quot\; said Chris Bell\, of Improv Unlimited. &quot\;The original founders of Improv Unlimited first met at the famed Second City and over the years have developed multiple shows with past and present members of all the famed improv theatres from Chicago\, New York and L.A.. Currently\, improv is concentrated in Chicago and is very inconvenient to residents of Elmhurst. By touring to the Elmhurst\, IL area we make improvisational comedy an economic and geographically viable entertainment option for friends and family.&quot\;<br />\n<br />\n&quot\;We&#39\;re very excited to have Improv Unlimited performing in our American Legion Post\,&quot\; said Dan Bruno\, Commander of the Post #187. &quot\;We thought the show provided an excellent form of entertainment and a way for us to raise money needed for to maintain and run essential programs for our veterans..&quot\;<br />\n<br />\nImprov Unlimited&#39\;s members hail from all the renowned comedy improv theatres in Chicago\, New York\, LA and Boston. The founding members met in the hallways of the famed Second City and created Improv Unlimited to fill the niche market of family entertainment. They will be presenting classic and original comedy improv sketches made famous on stage and television. &quot\;Satire Night Live!&quot\; is Improv Unlimited&#39\;s unique mixture of comedy and Improv. You&#39\;ll see classic sketches from stage and television as well as Improv Unlimiteds unique blend of hysterical family entertainment performed right before your eyes!<br />\n<br />\nTickets are $20.00 each for the 7PM or 10PM show and are available at the American Legion Post #187 by calling 630-833-7800 or may be ordered online at www.Comedy-Show-Tix.com .<br />\n<br />\n<br />\nPress Photo Attached<br />\n<br />\nwww.ImprovUnlimited.com<br />\n<br />\n
LOCATION:American Legion Normandy Room 310 Butterfield Rd. Elmhurst\, IL 60126
UID:e.333.3708
SEQUENCE:3
DTSTAMP:20260425T233944Z
URL:https://chambermaster.elmhurstchamber.org/events/details/elmhurst-american-legion-post-comedy-night-02-19-2011-3708
END:VEVENT

END:VCALENDAR
