BEGIN:VCALENDAR
VERSION:2.0
PRODID:-//ChamberMaster//Event Calendar 2.0//EN
METHOD:PUBLISH
X-PUBLISHED-TTL:P3D
REFRESH-INTERVAL:P3D
CALSCALE:GREGORIAN
BEGIN:VEVENT
DTSTART:20130601T140000Z
DTEND:20130601T170000Z
X-MICROSOFT-CDO-ALLDAYEVENT:FALSE
SUMMARY:Elmhurst Aquatics Academy Open House
DESCRIPTION:Come check out the aquatics programs offered by the Elmhurst Aquatics Academy of the Elmhurst Park District.  The swim lesson instructors will be giving demonstrations\, speaking about water safety\, and available to answer questions.  Longfellow the Whale will be there to meet and greet\, and hand out free giveaways.  Enter the raffle for a chance to win a private swim lesson package with one of our Water Safety Instructors!\n\n	 \n\n	East End Pool   Saturday\, June 1\, 9 a.m. to 10 a.m.\n\n	Smalley Pool   Saturday\, June 1\, 11 a.m. to noon
X-ALT-DESC;FMTTYPE=text/html:<p class="MsoNormal" style="margin: 0in 0in 0pt 0.1in\;">\n	<font face="Calibri"><font color="#000000" size="3">Come check out the aquatics programs offered by the Elmhurst Aquatics Academy of the Elmhurst Park District.<span style="mso-spacerun: yes\;">&nbsp\; </span>The swim lesson instructors will be giving demonstrations\, speaking about water safety\, and available to answer questions.<span style="mso-spacerun: yes\;">&nbsp\; </span>Longfellow the Whale will be there to meet and greet\, and hand out free giveaways.<span style="mso-spacerun: yes\;">&nbsp\; </span>Enter the raffle for a chance to win a private swim lesson package with one of our Water Safety Instructors!</font></font><br />\n	&nbsp\;</p>\n<p class="MsoNormal" style="margin: 0in 0in 0pt 0.1in\;">\n	<font color="#000000" face="Calibri" size="3">East End Pool &ndash\; Saturday\, June 1\, 9 a.m. to 10 a.m.</font></p>\n<p class="MsoNormal" style="margin: 0in 0in 0pt 0.1in\;">\n	<font color="#000000" face="Calibri" size="3">Smalley Pool &ndash\; Saturday\, June 1\, 11 a.m. to noon</font></p>\n
LOCATION:East End Pool & Smalley Pool
UID:e.333.5303
SEQUENCE:3
DTSTAMP:20260422T164159Z
URL:https://chambermaster.elmhurstchamber.org/events/details/elmhurst-aquatics-academy-open-house-06-01-2013-5303
END:VEVENT

END:VCALENDAR
