BEGIN:VCALENDAR
VERSION:2.0
PRODID:-//ChamberMaster//Event Calendar 2.0//EN
METHOD:PUBLISH
X-PUBLISHED-TTL:P3D
REFRESH-INTERVAL:P3D
CALSCALE:GREGORIAN
BEGIN:VEVENT
DTSTART:20130503T233000Z
DTEND:20130504T010000Z
X-MICROSOFT-CDO-ALLDAYEVENT:FALSE
SUMMARY:Elmhurst Art Museum
DESCRIPTION:Please join us for light appetizers\, wine and great company to celebrate the opening of - \n\nFRAGMENT: Sampling the modern and Cody Hudson: Flip your Wig
X-ALT-DESC;FMTTYPE=text/html:Please join us for light appetizers\, wine and great company to celebrate the opening of -&nbsp\;<br />\nFRAGMENT: Sampling the modern and Cody Hudson: Flip your Wig
LOCATION:Elmhurst Art Museum 150 S. Cottage Hill Ave Elmhurst\, IL 60126
UID:e.333.5289
SEQUENCE:3
DTSTAMP:20260422T180506Z
URL:https://chambermaster.elmhurstchamber.org/events/details/elmhurst-art-museum-05-03-2013-5289
END:VEVENT

END:VCALENDAR
