BEGIN:VCALENDAR
VERSION:2.0
PRODID:-//ChamberMaster//Event Calendar 2.0//EN
METHOD:PUBLISH
X-PUBLISHED-TTL:P3D
REFRESH-INTERVAL:P3D
CALSCALE:GREGORIAN
BEGIN:VEVENT
DTSTART;VALUE=DATE:20131022
DTEND;VALUE=DATE:20131130
TRANSP:TRANSPARENT
X-MICROSOFT-CDO-ALLDAYEVENT:TRUE
SUMMARY:Elmhurst Artists' Guild Fall Member Show
DESCRIPTION:More than 50 artists are exhibiting their latest works in the Elmhurst Artists' Guild Fall Member Show\, running from October 22 through November 29 in the EAG Gallery at the Elmhurst Art Museum\, 150 S. Cottage Hill Ave.\, Elmhurst\, Illinois.\n\n\n\n A reception open to the public will be held in the gallery Friday\, October 25\, from 7 to 9 pm.  Admission to the gallery and the museum is free all day Fridays.\n\n\n\nThe show features unusual artwork such as Laliberte's acrylic on Ugandan tree bark cloth\; Lee's oil\, cold wax\, sand on wood panel mixed media\; Loane's acrylic on board butterfly-series painting\, and Lucietto's ceramic and polychrome sculpture of St. John the Baptist.\n\n\n\nEAG members are exhibiting landscapes\, portraits and abstract works\, most of which are for sale. "Many of our members work in the arts professionally\, and the artwork included in this show is equal to that found in many commercial galleries\," according to Heather Jones-Pryor\, EAG President.  Entries show different approaches to art\, using watercolors\, ceramics\, oils\, acrylics\, collages and photographs.  A portion of the proceeds from sales benefits the Guild and the Elmhurst Art Museum.
X-ALT-DESC;FMTTYPE=text/html:<span style="font-size:11pt\;"><span style="font-family:arial\;">More than 50 artists are exhibiting their latest works in the Elmhurst Artists&rsquo\; Guild Fall Member Show\, running from October 22 through November 29 in the EAG Gallery at the Elmhurst Art Museum\, 150 S. Cottage Hill Ave.\, Elmhurst\, Illinois.<br />\n<br />\n&nbsp\;</span></span><span style="font-size:11pt\;"><span style="font-family:arial\;">A reception open to the public will be held in the gallery Friday\, October 25\, from 7 to 9 pm.&nbsp\; Admission to the gallery and the museum is free all day Fridays.</span></span><br />\n<br />\n<span style="font-size:11pt\;"><span style="font-family:arial\;">The show features unusual artwork such as Laliberte&rsquo\;s acrylic on Ugandan tree bark cloth\; Lee&rsquo\;s oil\, cold wax\, sand on wood panel mixed media\; Loane&rsquo\;s acrylic on board butterfly-series painting\, and Lucietto&rsquo\;s ceramic and polychrome sculpture of St. John the Baptist.</span></span><br />\n<br />\n<span style="font-size:11pt\;"><span style="font-family:arial\;">EAG members are exhibiting landscapes\, portraits and abstract works\, most of which are for sale.&nbsp\;&ldquo\;Many of our members work in the arts professionally\, and the artwork included in this show is equal to that found in many commercial galleries\,&rdquo\; according to Heather Jones-Pryor\, EAG President.&nbsp\; Entries show different approaches to art\, using watercolors\, ceramics\, oils\, acrylics\, collages and photographs. &nbsp\;A&nbsp\;portion of the proceeds from sales benefits the Guild and the Elmhurst Art Museum.</span></span><br />\n
LOCATION:The EAG Gallery at Elmhurst Art Museum 150 S. Cottage Hill Ave. Elmhurst\, IL
UID:e.333.5887
SEQUENCE:3
DTSTAMP:20260424T084827Z
URL:https://chambermaster.elmhurstchamber.org/events/details/elmhurst-artists-guild-fall-member-show-10-22-2013-5887
END:VEVENT

END:VCALENDAR
