BEGIN:VCALENDAR
VERSION:2.0
PRODID:-//ChamberMaster//Event Calendar 2.0//EN
METHOD:PUBLISH
X-PUBLISHED-TTL:P3D
REFRESH-INTERVAL:P3D
CALSCALE:GREGORIAN
BEGIN:VEVENT
DTSTART;VALUE=DATE:20120515
DTEND;VALUE=DATE:20120623
TRANSP:TRANSPARENT
X-MICROSOFT-CDO-ALLDAYEVENT:TRUE
SUMMARY:Elmhurst Artists' Guild Gallery featuring Mirjana Ursulesku
DESCRIPTION:Mirjana Ursulesku\, Bosnian-born artist now residing in Westmont\, is exhibiting her original art and gicl e prints dating from 1994 to the present in a show at the Elmhurst Artists' Guild Gallery from May 15 through June 22.  A reception open to the public will be held Friday\, May 18\, from 7 to 9 pm in the gallery\, at the Elmhurst Art Museum\, 150 S. Cottage Hill Ave.\, Elmhurst.  The show can be viewed during regular Elmhurst Art Museum hours\, 10 a.m. - 5 p.m. Tuesday\, Wednesday\, Thursday and Saturday and from 10 a.m. - 8 p.m. Friday.   Admission is free all day Friday and to Museum members and children at all times.
X-ALT-DESC;FMTTYPE=text/html:<span style="font-size:12px\;"><span style="font-family:arial\;">Mirjana Ursulesku\, Bosnian-born artist now residing in Westmont\, is exhibiting her original art and gicl&eacute\;e prints dating from 1994 to the present in a show at the Elmhurst Artists&#39\; Guild Gallery from May 15 through June 22.&nbsp\; A reception open to the public will be held Friday\, May 18\, from 7 to 9 pm in the gallery\, at the Elmhurst Art Museum\, 150 S. Cottage Hill Ave.\, Elmhurst.&nbsp\; The show can be viewed during regular Elmhurst Art Museum hours\, 10 a.m. - 5 p.m. Tuesday\, Wednesday\, Thursday and Saturday and from 10 a.m. - 8 p.m. Friday.&nbsp\;&nbsp\; Admission is free all day Friday and to Museum members and children at all times.</span></span><br />\n
LOCATION:Elmhurst Art Museum\, 150 S. Cottage Hill Ave.\, Elmhurst
UID:e.333.4849
SEQUENCE:3
DTSTAMP:20260424T230132Z
URL:https://chambermaster.elmhurstchamber.org/events/details/elmhurst-artists-guild-gallery-featuring-mirjana-ursulesku-05-15-2012-4849
END:VEVENT

END:VCALENDAR
