BEGIN:VCALENDAR
VERSION:2.0
PRODID:-//ChamberMaster//Event Calendar 2.0//EN
METHOD:PUBLISH
X-PUBLISHED-TTL:P3D
REFRESH-INTERVAL:P3D
CALSCALE:GREGORIAN
BEGIN:VEVENT
DTSTART;VALUE=DATE:20110628
DTEND;VALUE=DATE:20110730
TRANSP:TRANSPARENT
X-MICROSOFT-CDO-ALLDAYEVENT:TRUE
SUMMARY:Elmhurst Artists Guild Summer Members Show
DESCRIPTION:The Summer Members Show\, featuring a variety of original artwork by the members of the Elmhurst Artists' Guild (EAG)\, will be held in the EAG Gallery from June 28\, 2011 through July 29\, 2011.  The public is encouraged to attend the reception on Friday\, July 1\, 2011 from 7:00 to 9:00pm to meet the artists and learn about their work. The artworks will be judged and awards bestowed by Beth Shadur\, an internationally recognized artist\, curator and teacher at Carthage College\, Kenosha\, WI.
X-ALT-DESC;FMTTYPE=text/html:<span style="font-family: calibri\; font-size: 11pt\; mso-fareast-font-family: 'times new roman'\; mso-bidi-font-family: 'times new roman'\; mso-ansi-language: en-us\; mso-fareast-language: en-us\; mso-bidi-language: ar-sa"><font color="#000000">The Summer Members Show\, featuring a variety of original artwork by the members of the Elmhurst Artists&rsquo\; Guild (EAG)\, will be held in the EAG Gallery from June 28\, 2011 through July 29\, 2011.<span style="mso-spacerun: yes">&nbsp\; </span>The public is encouraged to attend the reception on Friday\, July 1\, 2011 from 7:00 to 9:00pm to meet the artists and learn about their work. The artworks will be judged and awards bestowed by Beth Shadur\, an internationally recognized artist\, curator and teacher at Carthage College\, Kenosha\, WI.</font></span>
LOCATION:EAG Gallery in Elmhurst Art Museum 150 Cottage Hill Elmhurst
UID:e.333.4246
SEQUENCE:3
DTSTAMP:20260425T161503Z
URL:https://chambermaster.elmhurstchamber.org/events/details/elmhurst-artists-guild-summer-members-show-06-28-2011-4246
END:VEVENT

END:VCALENDAR
