BEGIN:VCALENDAR
VERSION:2.0
PRODID:-//ChamberMaster//Event Calendar 2.0//EN
METHOD:PUBLISH
X-PUBLISHED-TTL:P3D
REFRESH-INTERVAL:P3D
CALSCALE:GREGORIAN
BEGIN:VEVENT
DTSTART:20111217T010000Z
DTEND:20111217T030000Z
X-MICROSOFT-CDO-ALLDAYEVENT:FALSE
SUMMARY:Elmhurst Artists' Guild Winter Members Show Reception
DESCRIPTION:A reception open to the public will be held in the gallery to celebrate the Winter Members Show.
X-ALT-DESC;FMTTYPE=text/html:A reception open to the public will be held in the gallery to celebrate the Winter Members Show.
LOCATION:Elmhurst Art Museum 150 Cottage Hill Avenue Elmhurst\, IL 60126
UID:e.333.4755
SEQUENCE:3
DTSTAMP:20260425T102841Z
URL:https://chambermaster.elmhurstchamber.org/events/details/elmhurst-artists-guild-winter-members-show-reception-12-16-2011-4755
END:VEVENT

END:VCALENDAR
