BEGIN:VCALENDAR
VERSION:2.0
PRODID:-//ChamberMaster//Event Calendar 2.0//EN
METHOD:PUBLISH
X-PUBLISHED-TTL:P3D
REFRESH-INTERVAL:P3D
CALSCALE:GREGORIAN
BEGIN:VEVENT
DTSTART:20130917T000000Z
DTEND:20130917T000000Z
X-MICROSOFT-CDO-ALLDAYEVENT:FALSE
SUMMARY:Elmhurst Choral Union auditions
DESCRIPTION:Love to sing?  Challenge your vocal skills and experience the thrill of singing with a full orchestra.  Audition for Elmhurst Choral Union's 2013-14 season.\n\n\n\nMembership is open to skilled singers with previous choral experience or the ability to read music.  Openings are available in all voice ranges.\n\n\n\nTo reserve an audition appointment on September 16 or 23\, contact ECU at 630-758-1100 or through its web site\, elmhurstchoralunion.org.\n\n\n\nAuditions involve a vocal warm-up and a piece of the singer's choice.  Please bring a copy of your music.\n\n\n\nConcert rehearsals begin Monday\, September 30 on the campus of Elmhurst College.\n\n\n\nElmhurst Choral Union is an outstanding volunteer choir performing classical masterworks and great choral music of all eras with professional orchestra and soloists.
X-ALT-DESC;FMTTYPE=text/html:Love to sing?&nbsp\; Challenge your vocal skills and experience the thrill of singing with a full orchestra.&nbsp\; Audition for Elmhurst Choral Union&rsquo\;s 2013-14 season.<br />\n<br />\nMembership is open to skilled singers with previous choral experience or the ability to read music.&nbsp\; Openings are available in all voice ranges.<br />\n<br />\nTo reserve an audition appointment on September 16 or 23\, contact ECU at 630-758-1100 or through its web site\, elmhurstchoralunion.org.<br />\n<br />\nAuditions involve a vocal warm-up and a piece of the singer&rsquo\;s choice.&nbsp\; Please bring a copy of your music.<br />\n<br />\nConcert rehearsals begin Monday\, September 30 on the campus of Elmhurst College.<br />\n<br />\nElmhurst Choral Union is an outstanding volunteer choir performing classical masterworks and great choral music of all eras with professional orchestra and soloists. 
LOCATION:Irion Hall\, Elmhurst College 190 Prospect\, Elmhurst
UID:e.333.5580
SEQUENCE:3
DTSTAMP:20260422T113158Z
URL:https://chambermaster.elmhurstchamber.org/events/details/elmhurst-choral-union-auditions-09-16-2013-5580
END:VEVENT

END:VCALENDAR
