BEGIN:VCALENDAR
VERSION:2.0
PRODID:-//ChamberMaster//Event Calendar 2.0//EN
METHOD:PUBLISH
X-PUBLISHED-TTL:P3D
REFRESH-INTERVAL:P3D
CALSCALE:GREGORIAN
BEGIN:VEVENT
DTSTART:20121202T210000Z
DTEND:20121202T232500Z
X-MICROSOFT-CDO-ALLDAYEVENT:FALSE
SUMMARY:Elmhurst Choral Union & Orchestra: Handel's Messiah
DESCRIPTION:Start your holidays right with Handel's Messiah\, a Christmas classic.  Director James MacDonald leads Elmhurst Choral Union\, professional orchestra and soloists in the wonderful acoustics of Hammerschmidt Chapel.\n\n\n\nOrder tickets online at elmhurstchoralunion.org\, by phone at 800-838-3006\, or at the door.\n\n\n\nRide in comfort on the free shuttle bus from the large parking lot on Alexander Boulevard to the chapel.
X-ALT-DESC;FMTTYPE=text/html:Start your holidays right with Handel&#39\;s Messiah\, a Christmas classic.&nbsp\; Director James MacDonald leads Elmhurst Choral Union\, professional orchestra and soloists in the wonderful acoustics of Hammerschmidt Chapel.<br />\n<br />\nOrder tickets online at elmhurstchoralunion.org\, by phone at 800-838-3006\, or at the door.<br />\n<br />\nRide in comfort on the free shuttle bus from the large parking lot on Alexander Boulevard to the chapel.
LOCATION:Hammerschmidt Chapel\, Elmhurst College 190 Prospect\, Elmhurst
UID:e.333.5093
SEQUENCE:3
DTSTAMP:20260424T132221Z
URL:https://chambermaster.elmhurstchamber.org/events/details/elmhurst-choral-union-orchestra-handel-s-messiah-12-02-2012-5093
END:VEVENT

END:VCALENDAR
