BEGIN:VCALENDAR
VERSION:2.0
PRODID:-//ChamberMaster//Event Calendar 2.0//EN
METHOD:PUBLISH
X-PUBLISHED-TTL:P3D
REFRESH-INTERVAL:P3D
CALSCALE:GREGORIAN
BEGIN:VEVENT
DTSTART:20110403T200000Z
DTEND:20110403T220000Z
X-MICROSOFT-CDO-ALLDAYEVENT:FALSE
SUMMARY:Elmhurst Choral Union & Orchestra present Brahms Requiem
DESCRIPTION:Elmhurst Choral Union performs Brahms? moving portrayal of hope\, comfort\, and Heaven\, with a full professional orchestra and soloists.\n\n\n\nBrahms wrote this requiem as a memorial to his mother\, and his deep feelings are reflected in both the music and the text.  Instead of using traditional Latin texts\, Brahms opened his childhood Bible and chose verses about life?s brevity and the assurance of Heaven. \n\n\n\nShuttle bus service from the college parking lot on Alexander Boulevard will be available.
X-ALT-DESC;FMTTYPE=text/html:Elmhurst Choral Union performs Brahms? moving portrayal of hope\, comfort\, and Heaven\, with a full professional orchestra and soloists.\n<br>\n<br>Brahms wrote this requiem as a memorial to his mother\, and his deep feelings are reflected in both the music and the text.  Instead of using traditional Latin texts\, Brahms opened his childhood Bible and chose verses about life?s brevity and the assurance of Heaven. \n<br>\n<br>Shuttle bus service from the college parking lot on Alexander Boulevard will be available. \n<br>
LOCATION:Hammerschmidt Chapel\, Elmhurst College\, 190 Prospect
UID:e.333.3872
SEQUENCE:3
DTSTAMP:20260425T204851Z
URL:https://chambermaster.elmhurstchamber.org/events/details/elmhurst-choral-union-orchestra-present-brahms-requiem-04-03-2011-3872
END:VEVENT

END:VCALENDAR
