BEGIN:VCALENDAR
VERSION:2.0
PRODID:-//ChamberMaster//Event Calendar 2.0//EN
METHOD:PUBLISH
X-PUBLISHED-TTL:P3D
REFRESH-INTERVAL:P3D
CALSCALE:GREGORIAN
BEGIN:VEVENT
DTSTART:20120422T200000Z
DTEND:20120422T220000Z
X-MICROSOFT-CDO-ALLDAYEVENT:FALSE
SUMMARY:Elmhurst Choral Union Performs "Spiritual Romantics"
DESCRIPTION:Elmhurst Choral Union and Orchestra perform moving portrayals of divine and human love on Sunday\, April 22 at 3:00 p.m. in Hammerschmidt Chapel on the campus of Elmhrust College. \n\n\n\nA full professional orchestra and soloists join the ECU for spiritually infuenced works by Wagner and Bruckner\, under the direction of James MacDonald. \n\n\n\nThe ensemble will perform Bruckner's Mass number 1\, and works by Wagner: Pilgrim's Chorus from Tannhauser\, opening chorale from Die Meistersinger\, and the Prelude to Tristan and Isolde. \n\n\n\nTickets are $25 for adults\, $23 for seniors and $10 for students.  To order tickets or for audio and video clips\, visit www.elmhurstchoralunion.org\n\n\n\n\n\nShuttle bus service from the college parking lot on Alexander Boulevard wil be available. \n\n\n\nElmhurst Choral Union is in its 60th anniversary season of performing classical masterworks and great choral music of all eras.  The concert is funded in part by a grant from the Illinois Arts Council\, a state agency.
X-ALT-DESC;FMTTYPE=text/html:Elmhurst Choral Union and Orchestra perform moving portrayals of divine and human love on Sunday\, April 22 at 3:00 p.m. in Hammerschmidt Chapel on&nbsp\;the campus of Elmhrust College.&nbsp\;<br />\n<br />\nA full professional orchestra and soloists join the ECU for spiritually infuenced works by Wagner and Bruckner\, under the direction of James MacDonald.&nbsp\;<br />\n<br />\nThe ensemble will perform Bruckner&#39\;s Mass number 1\, and works by Wagner: Pilgrim&#39\;s Chorus from Tannhauser\, opening chorale from Die Meistersinger\, and the Prelude to Tristan and Isolde.&nbsp\;<br />\n<br />\nTickets are $25 for adults\, $23 for seniors and $10 for students.&nbsp\; To order tickets or for audio and video clips\, visit <a href="http://www.elmhurstchoralunion.org">www.elmhurstchoralunion.org</a><br />\n<br />\n<br />\nShuttle bus service from the college parking lot on Alexander Boulevard wil be available.&nbsp\;<br />\n<br />\nElmhurst Choral Union is in its 60th anniversary season of performing classical masterworks and great choral music of all eras.&nbsp\; The concert is funded in part by a grant from the Illinois Arts Council\, a state agency.
LOCATION:Elmhurst College Hammerschmidt Chapel 190 E. Prospect St.
UID:e.333.4778
SEQUENCE:3
DTSTAMP:20260425T021901Z
URL:https://chambermaster.elmhurstchamber.org/events/details/elmhurst-choral-union-performs-spiritual-romantics-04-22-2012-4778
END:VEVENT

END:VCALENDAR
