BEGIN:VCALENDAR
VERSION:2.0
PRODID:-//ChamberMaster//Event Calendar 2.0//EN
METHOD:PUBLISH
X-PUBLISHED-TTL:P3D
REFRESH-INTERVAL:P3D
CALSCALE:GREGORIAN
BEGIN:VEVENT
DTSTART:20101205T210000Z
DTEND:20101205T210000Z
X-MICROSOFT-CDO-ALLDAYEVENT:FALSE
SUMMARY:Elmhurst Choral Union present Handel's Messiah
DESCRIPTION:Elmhurst Choral Union performs Handel's Messiah\, with full professional orchestra and soloists.  Start your holiday with inspired music!\n\n\n\nVisit ECU's website to order tickets\, to learn about the free shuttle bus\, and to hear audio & video clips.\n\nhttp://www.elmhurstchoralunion.org
X-ALT-DESC;FMTTYPE=text/html:Elmhurst Choral Union performs Handel's Messiah\, with full professional orchestra and soloists.  Start your holiday with inspired music!\n<br>\n<br>Visit ECU's website to order tickets\, to learn about the free shuttle bus\, and to hear audio &amp\; video clips.\n<br>http://www.elmhurstchoralunion.org
LOCATION:Hammerschmidt Chapel Elmhurst College
UID:e.333.3501
SEQUENCE:3
DTSTAMP:20260426T042949Z
URL:https://chambermaster.elmhurstchamber.org/events/details/elmhurst-choral-union-present-handel-s-messiah-12-05-2010-3501
END:VEVENT

END:VCALENDAR
