BEGIN:VCALENDAR
VERSION:2.0
PRODID:-//ChamberMaster//Event Calendar 2.0//EN
METHOD:PUBLISH
X-PUBLISHED-TTL:P3D
REFRESH-INTERVAL:P3D
CALSCALE:GREGORIAN
BEGIN:VEVENT
DTSTART:20130421T200000Z
DTEND:20130421T223000Z
X-MICROSOFT-CDO-ALLDAYEVENT:FALSE
SUMMARY:Elmhurst Choral Union presents "Operapalooza"
DESCRIPTION:Elmhurst Choral Union presents familiar tunes from opera on Sunday\, April 21 at 3:00 p.m.\n\n\n\nElmhurst Choral Union\, orchestra\, soloists\, and special guests\, Ragazze of Spirito! Singers\, perform opera favorites by Verdi\, Wagner\, Bizet\, Bernstein\, and more at Hammerschmidt Chapel\, Elmhurst College.\n\n\n\nTickets are available online at elmhurstchoralunion.org\, by phone 800-838-3006\, or at the door.
X-ALT-DESC;FMTTYPE=text/html:Elmhurst Choral Union presents familiar tunes from opera on Sunday\, April 21 at 3:00 p.m.<br />\n<br />\nElmhurst Choral Union\, orchestra\, soloists\, and special guests\, Ragazze of Spirito! Singers\, perform opera favorites by Verdi\, Wagner\, Bizet\, Bernstein\, and more at Hammerschmidt Chapel\, Elmhurst College.<br />\n<br />\nTickets are available online at elmhurstchoralunion.org\, by phone 800-838-3006\, or at the door.
LOCATION:Hammerschmidt Chapel\, Elmhurst College
UID:e.333.5231
SEQUENCE:3
DTSTAMP:20260422T194349Z
URL:https://chambermaster.elmhurstchamber.org/events/details/elmhurst-choral-union-presents-operapalooza-04-21-2013-5231
END:VEVENT

END:VCALENDAR
