BEGIN:VCALENDAR
VERSION:2.0
PRODID:-//ChamberMaster//Event Calendar 2.0//EN
METHOD:PUBLISH
X-PUBLISHED-TTL:P3D
REFRESH-INTERVAL:P3D
CALSCALE:GREGORIAN
BEGIN:VEVENT
DTSTART;VALUE=DATE:20111121
DTEND;VALUE=DATE:20111122
TRANSP:TRANSPARENT
X-MICROSOFT-CDO-ALLDAYEVENT:TRUE
SUMMARY:Elmhurst Coins and Collectibles Open House
DESCRIPTION:A ribbon cutting and open house wil be held for the new Elmhurst Coins and Collectibles shop which recently opened at 127 North Addison. The ribbon cutting and open house will be held Monday\, November 21st starting at 12:30 p.m. The shop opened this fall to provide Elmhurst area residents a location where they can buy\, sell and trade collectible coins\, currency and precious metals. The shop is open 6 days a week. Area residents and merchants are invited to stop in to visit the new shop during the Open House. For additional information please contact 630-359-4140.
X-ALT-DESC;FMTTYPE=text/html:A ribbon cutting and open house wil be held for the new Elmhurst Coins and Collectibles shop which recently opened at 127 North Addison. The ribbon cutting and open house will be held Monday\, November 21st starting at 12:30 p.m. The shop opened this fall to provide Elmhurst area residents a location where they can buy\, sell and trade collectible coins\, currency and precious metals. The shop is open 6 days a week. Area residents and merchants are invited to stop in to visit the new shop during the Open House. For additional information please contact 630-359-4140.
LOCATION:Elmhurst Coins and Collectibles 127 North Addison Elmhurst\, IL 60126
UID:e.333.4723
SEQUENCE:3
DTSTAMP:20260425T103643Z
URL:https://chambermaster.elmhurstchamber.org/events/details/elmhurst-coins-and-collectibles-open-house-11-21-2011-4723
END:VEVENT

END:VCALENDAR
