BEGIN:VCALENDAR
VERSION:2.0
PRODID:-//ChamberMaster//Event Calendar 2.0//EN
METHOD:PUBLISH
X-PUBLISHED-TTL:P3D
REFRESH-INTERVAL:P3D
CALSCALE:GREGORIAN
BEGIN:VEVENT
DTSTART:20130614T003000Z
DTEND:20130614T020000Z
X-MICROSOFT-CDO-ALLDAYEVENT:FALSE
SUMMARY:ELMHURST COLLEGE JAZZ BAND TO PERFORM JUNE 13 AT MAYSLAKE PEABODY ESTATE
DESCRIPTION:Enjoy a performance by the Elmhurst College Jazz Band during the "WDCB Jazz Salon at Mayslake" on Thursday\, June 13 from 7:30 to 9 p.m. at the Forest Preserve District of DuPage County's Mayslake Peabody Estate in Oak Brook.\n\n\n\nPurchase tickets by calling Mayslake at 630-206-9566.
X-ALT-DESC;FMTTYPE=text/html:<span style="FONT-FAMILY: 'Arial'\,'sans-serif'\; FONT-SIZE: 10pt">Enjoy a performance by the Elmhurst College Jazz Band during the &ldquo\;WDCB Jazz Salon at Mayslake&rdquo\; on Thursday\, June 13 from 7:30 to 9 p.m. at the Forest Preserve District of DuPage County&rsquo\;s <a href="http://www.dupageforest.org/Education/Education_Centers/Mayslake_Peabody_Estate.aspx">Mayslake Peabody Estate</a> in Oak Brook.</span><br />\n<br />\n<span style="FONT-FAMILY: 'Arial'\,'sans-serif'\; FONT-SIZE: 10pt">Purchase tickets by calling Mayslake at 630-206-9566.<o:p></o:p></span>
LOCATION:Mayslake Peabody Estate is located at 1717 W. 31st St. in Oak Brook
UID:e.333.5312
SEQUENCE:3
DTSTAMP:20260422T165415Z
URL:https://chambermaster.elmhurstchamber.org/events/details/elmhurst-college-jazz-band-to-perform-june-13-at-mayslake-peabody-estate-06-13-2013-5312
END:VEVENT

END:VCALENDAR
