BEGIN:VCALENDAR
VERSION:2.0
PRODID:-//ChamberMaster//Event Calendar 2.0//EN
METHOD:PUBLISH
X-PUBLISHED-TTL:P3D
REFRESH-INTERVAL:P3D
CALSCALE:GREGORIAN
BEGIN:VEVENT
DTSTART:20130603T163000Z
DTEND:20130603T190000Z
X-MICROSOFT-CDO-ALLDAYEVENT:FALSE
SUMMARY:Elmhurst Garden Club Meeting
DESCRIPTION:Refreshments 11:30\, Meeting 12 p.m.\n\nAt 1 p.m. Beau Kimball of Kimball & Bean Architectural and Garden Antiques in Woodstock will present "Where in the World Did you Find That?"
X-ALT-DESC;FMTTYPE=text/html:Refreshments 11:30\, Meeting 12 p.m.<br />\nAt 1 p.m. Beau Kimball of Kimball &amp\; Bean Architectural and Garden Antiques in Woodstock will present &quot\;Where in the World Did you Find That?&quot\;
LOCATION:Wilder Mansion 211 S Prospect Ave Elmhurst
UID:e.333.5292
SEQUENCE:3
DTSTAMP:20260422T180812Z
URL:https://chambermaster.elmhurstchamber.org/events/details/elmhurst-garden-club-meeting-06-03-2013-5292
END:VEVENT

END:VCALENDAR
