BEGIN:VCALENDAR
VERSION:2.0
PRODID:-//ChamberMaster//Event Calendar 2.0//EN
METHOD:PUBLISH
X-PUBLISHED-TTL:P3D
REFRESH-INTERVAL:P3D
CALSCALE:GREGORIAN
BEGIN:VEVENT
DTSTART:20130506T153000Z
DTEND:20130506T190000Z
X-MICROSOFT-CDO-ALLDAYEVENT:FALSE
SUMMARY:ELMHURST GARDEN CLUB PLANT SALE & MEETING
DESCRIPTION:
X-ALT-DESC;FMTTYPE=text/html:
LOCATION:Wilder Park\, 211 S Prospect\, Elmhurst
UID:e.333.5280
SEQUENCE:3
DTSTAMP:20260422T180940Z
URL:https://chambermaster.elmhurstchamber.org/events/details/elmhurst-garden-club-plant-sale-meeting-05-06-2013-5280
END:VEVENT

END:VCALENDAR
