BEGIN:VCALENDAR
VERSION:2.0
PRODID:-//ChamberMaster//Event Calendar 2.0//EN
METHOD:PUBLISH
X-PUBLISHED-TTL:P3D
REFRESH-INTERVAL:P3D
CALSCALE:GREGORIAN
BEGIN:VEVENT
DTSTART:20120708T150000Z
DTEND:20120708T200000Z
X-MICROSOFT-CDO-ALLDAYEVENT:FALSE
SUMMARY:Elmhurst Garden Walk
DESCRIPTION:The Elmhurst Garden Club presents "An Afternoon in the Garden." This year's Garden Walk and Faire will feature eight very special Elmhurst gardens\, a Chinese herb garden\, and booths selling varied and unique items in Wilder Park.  There will also be a deli luncheon and Art Show of works by local artists inside Wilder Mansion.  For more information and tickets\, please go to www.elmhurstgardenwalk.com.
X-ALT-DESC;FMTTYPE=text/html:The Elmhurst&nbsp\;Garden Club&nbsp\;presents&nbsp\;&quot\;An Afternoon in the Garden.&quot\;&nbsp\;This year&#39\;s Garden&nbsp\;Walk and Faire will feature eight very special&nbsp\;Elmhurst gardens\, a Chinese herb garden\, and&nbsp\;booths selling varied and unique&nbsp\;items in&nbsp\;Wilder&nbsp\;Park.&nbsp\;&nbsp\;There will also be&nbsp\;a deli luncheon and&nbsp\;Art Show of&nbsp\;works by&nbsp\;local artists inside&nbsp\;Wilder Mansion.&nbsp\;&nbsp\;For more information and tickets\, please go to www.elmhurstgardenwalk.com.<br />\n<br />\n
LOCATION:Wilder Mansion\, Elmhurst
UID:e.333.4846
SEQUENCE:3
DTSTAMP:20260424T212030Z
URL:https://chambermaster.elmhurstchamber.org/events/details/elmhurst-garden-walk-07-08-2012-4846
END:VEVENT

END:VCALENDAR
