BEGIN:VCALENDAR
VERSION:2.0
PRODID:-//ChamberMaster//Event Calendar 2.0//EN
METHOD:PUBLISH
X-PUBLISHED-TTL:P3D
REFRESH-INTERVAL:P3D
CALSCALE:GREGORIAN
BEGIN:VEVENT
DTSTART:20110710T150000Z
DTEND:20110710T200000Z
X-MICROSOFT-CDO-ALLDAYEVENT:FALSE
SUMMARY:Elmhurst Garden Walk
DESCRIPTION:Seven gardens will be featured.  Visitors will redeem their tickets and obtain garden guide books at the Elmhurst Garden Club booth in Wilder Park.  The Faire will be in Wilder Park from 10 am - 4 pm.  An art exhibit of works by local artists and an ala carte luncheon will be held in Wilder Mansion.
X-ALT-DESC;FMTTYPE=text/html:Seven gardens will be featured.&nbsp\; Visitors will redeem their tickets and obtain garden guide books at the Elmhurst Garden Club booth in Wilder Park.&nbsp\; The Faire will be in Wilder Park from 10 am - 4 pm.&nbsp\; An art exhibit of works by local artists and an ala carte luncheon will be held&nbsp\;in Wilder Mansion.&nbsp\; 
LOCATION:Wilder Park
UID:e.333.4247
SEQUENCE:3
DTSTAMP:20260425T161427Z
URL:https://chambermaster.elmhurstchamber.org/events/details/elmhurst-garden-walk-07-10-2011-4247
END:VEVENT

END:VCALENDAR
